BEGIN:VCALENDAR
VERSION:2.0
PRODID:-//wp-events-plugin.com//7.2.3.1//EN
TZID:Europe/Warsaw
X-WR-TIMEZONE:Europe/Warsaw
BEGIN:VEVENT
UID:45769@night4u.pl
DTSTART;TZID=Europe/Warsaw:20200215T210000
DTEND;TZID=Europe/Warsaw:20200216T030000
DTSTAMP:20200331T145922Z
URL:https://night4u.pl/wydarzenia/dejot-w-soul-train-klubokawiarnia-15-02/
SUMMARY:Dejot w Soul Train Klubokawiarnia! 15.02
DESCRIPTION:15 lutego ponownie zawita do nas Dejot\, który jak zwykle wpra
 wi Wasze ciała w ruch za pomocą najlepszej selekcji spośród czarnych r
 ytmów. Soczysty funk? Bujający hip-hop? To i wiele więcej gwarantowane!
 \n\nCzym prędzej zapisujcie termin 15.02 w swoje kalendarze i widzimy si
 ę pod nasypem!\n\n15.02 sobota\n21:00\nwstęp free!\n\nWe Got Soul!
ATTACH;FMTTYPE=image/jpeg:https://night4u.pl/wp-content/uploads/2020/01/14
 8668_image_83055317_3188408304633218_4130193980950315008_o.jpg
CATEGORIES:dolnośląskie
LOCATION:Soul Train Klubokawiarnia\, ul. Bogusławskiego 27\, Wroclaw\, 50-
 023\, Poland
GEO:51.10084;17.026
X-APPLE-STRUCTURED-LOCATION;VALUE=URI;X-ADDRESS=ul. Bogusławskiego 27\, Wr
 oclaw\, 50-023\, Poland;X-APPLE-RADIUS=100;X-TITLE=Soul Train Klubokawiarn
 ia:geo:51.10084,17.026
END:VEVENT
BEGIN:VTIMEZONE
TZID:Europe/Warsaw
X-LIC-LOCATION:Europe/Warsaw
BEGIN:STANDARD
DTSTART:20191027T020000
TZOFFSETFROM:+0200
TZOFFSETTO:+0100
TZNAME:CET
END:STANDARD
END:VTIMEZONE
END:VCALENDAR