BEGIN:VCALENDAR
VERSION:2.0
PRODID:-//wp-events-plugin.com//7.2.3.1//EN
TZID:Europe/Warsaw
X-WR-TIMEZONE:Europe/Warsaw
BEGIN:VEVENT
UID:7183@night4u.pl
DTSTART;TZID=Europe/Warsaw:20190308T230000
DTEND;TZID=Europe/Warsaw:20190308T230000
DTSTAMP:20190213T180844Z
URL:https://night4u.pl/wydarzenia/dejw/
SUMMARY:Dejw
DESCRIPTION:Bilety do kupienia na barze w lokalu lub na kupbilecik.pl
ATTACH;FMTTYPE=image/jpeg:https://night4u.pl/wp-content/uploads/2019/02/20
 682_image_51112711_568366003638063_4631202628993286144_n.jpg
CATEGORIES:pomorskie
LOCATION:Noce i Dnie Garnizon\, Słowackiego 19\, Gdansk\, 80-257\, Poland
GEO:54.381232;18.590884
X-APPLE-STRUCTURED-LOCATION;VALUE=URI;X-ADDRESS=Słowackiego 19\, Gdansk\, 
 80-257\, Poland;X-APPLE-RADIUS=100;X-TITLE=Noce i Dnie Garnizon:geo:54.381
 232,18.590884
END:VEVENT
BEGIN:VTIMEZONE
TZID:Europe/Warsaw
X-LIC-LOCATION:Europe/Warsaw
BEGIN:STANDARD
DTSTART:20181028T020000
TZOFFSETFROM:+0200
TZOFFSETTO:+0100
TZNAME:CET
END:STANDARD
END:VTIMEZONE
END:VCALENDAR