BEGIN:VCALENDAR
VERSION:2.0
PRODID:-//wp-events-plugin.com//7.2.3.1//EN
TZID:Europe/Warsaw
X-WR-TIMEZONE:Europe/Warsaw
BEGIN:VEVENT
UID:29754@night4u.pl
DTSTART;TZID=Europe/Warsaw:20191010T210000
DTEND;TZID=Europe/Warsaw:20191011T040000
DTSTAMP:20191015T104335Z
URL:https://night4u.pl/wydarzenia/dekada-%e2%98%bb-czwartkoteka-ft-toxic-d
 isko/
SUMMARY:Dekada ☻ CzwartkoTeka ft. Toxic Disko
DESCRIPTION:Wyjście na miasto to kolejna impreza bez polotu? Potrzebujecie
  luzu i relaksu w klubie? Szaleństwo na parkiecie bez spiny?\n\nMamy to -
  domówkowy klimat w każdy czwartek w Dekadzie! \n\nZaprosiliśmy gościa
 \, którego imprezy sprawiają\, że parkiet drży\, a Wasze serca szalej
 ą ze szczęścia.\n\nToxic Disko to szalona mieszanka selekcji z lat '70\
 , new wave'u '80\, break beatów\, oldschoolowego popu\, break beatu\, mas
 h up'ów i niebanalnego electro. The best of the best i wyszukane smaczki 
 z najlepszych tanecznych półek. Jak wyżej: bez granic\, schematów i su
 mienia\, czasami z przymrużeniem oka.\n\nNa naszym cyklu serwujemy klubow
 e brzmienia od POP-u (Justin Timberlake)\, DANCE (C&amp\;C Music Fatory)\,
  RAVE (The Prodigy)\, ROCK (Guns'N'Roses)\, a nawet przytulańce jak za do
 brych lat. Przez całą noc wejście jest za darmo dla wszystkich\, a do t
 ego czeka Was Double Shot Bar czyli podwajamy shoty do północy! #Dekada2
 0\n\n🔫 26.09 SALA GŁÓWNA » CzwartkoTeka\n⚠️ Toxic Disko\n🔫 MU
 SIC » Taneczny misz masz czyli ulubione numery z lat 80\,90\,00 - coś do
  potupania nogą\, jak i przytulańca.\n\n🔫 OPEN » 21:00\n⚠️ Doubl
 e Shot Bar do północy!\n🔫 Wjazd FREE przez całą noc!\nRezerwacja: +
 48 600 856 571\, rezerwacja@dekada.pl\n\nMordor Na Domaniewskiej / Korpo V
 oice / Radio ESKA / Mówią Na Mieście / Warszawa naszemiasto.pl / Warsza
 wa za darmo - waw4free
ATTACH;FMTTYPE=image/jpeg:https://night4u.pl/wp-content/uploads/2019/10/68
 598_image_71076475_2419380611450023_152330799088140288_o.jpg
CATEGORIES:mazowieckie
LOCATION:KLUB DEKADA\, ul. Grójecka 19/25\, Ochota\, 02-021\, Poland
GEO:52.22134;20.98615
X-APPLE-STRUCTURED-LOCATION;VALUE=URI;X-ADDRESS=ul. Grójecka 19/25\, Ochot
 a\, 02-021\, Poland;X-APPLE-RADIUS=100;X-TITLE=KLUB DEKADA:geo:52.22134,20
 .98615
END:VEVENT
BEGIN:VTIMEZONE
TZID:Europe/Warsaw
X-LIC-LOCATION:Europe/Warsaw
BEGIN:DAYLIGHT
DTSTART:20190331T030000
TZOFFSETFROM:+0100
TZOFFSETTO:+0200
TZNAME:CEST
END:DAYLIGHT
END:VTIMEZONE
END:VCALENDAR