BEGIN:VCALENDAR
VERSION:2.0
PRODID:-//wp-events-plugin.com//7.2.3.1//EN
TZID:Europe/Warsaw
X-WR-TIMEZONE:Europe/Warsaw
BEGIN:VEVENT
UID:31520@night4u.pl
DTSTART;TZID=Europe/Warsaw:20191017T210000
DTEND;TZID=Europe/Warsaw:20191018T050000
DTSTAMP:20191017T083027Z
URL:https://night4u.pl/wydarzenia/dekada-%e2%9c%98-czwartkoteka-ft-maurycy
 -ra/
SUMMARY:Dekada ✘ CzwartkoTeka ft. Maurycy Ra
DESCRIPTION:Poszłoby się na jakąś imprezkę\, co nie? Ale na jakąś ta
 ką fajną\, taką z polotem i klasą\, a jednocześnie na totalnym luzie 
 i na pełnym relaksie. No\, no\, taka iście lajtowa rozrywka bez żadnej 
 spiny\, prawda? Hmmm?\n\nMamy to - domówkowy klimat w każdy czwartek w D
 ekadzie! \n\nNaszym gościem jest człowiek orkiestra Maurycy RA czyli wok
 alista\, raper\, DJ\, a ostatnio również malarz i rysownik. Przedstawia 
 się mianem dreso-hipisa i gawędziarza. Ostatnimi laty\, jedną nogą w E
 uropie\, a drugą w Azji. Kim jest ów ekscentryczny jegomość? Maurycy R
 A znany z wielu projektów muzycznych opartych na żywych instrumentach - 
 hiphopowe Stama Ra\, teatralna Jasna Liryka\, wybuchowa Raggamoova\, bałk
 ańskie Bum Bum Orkestar\, jazzowa Warszawa Kyiv Express czy latynoski Sun
 nyLand. Ten gość odnajduje się w każdym gatunku na mikrofonie jak i w 
 setach jako DJ.  Zagrał ponad 700 koncertów i imprez w Polsce\, Tajlandi
 i\, Francji\, Szwajcarii\, Kambodży\, Austrii. Przy okazji festiwali oraz
  imprez klubowych supportował  m.in. Foreign Beggars (UK)\, Juliana Marle
 y'a (JAM)\, Dilated People (USA)\, Balkan Beat Box\, (Izrael/USA)\, Babylo
 n Circus (FR)\, Overproof soundsystem (UK). \n\nNa naszym cyklu serwujemy 
 klubowe brzmienia od POP-u (Britney Spears)\, DANCE (Black Box)\, RAVE (Th
 e Prodigy)\, ROCK (Nirvana)\, a nawet przytulańce jak za dobrych lat. Prz
 ez całą noc wejście jest za darmo dla wszystkich\, a do tego czeka Was 
 Double Shot Bar czyli podwajamy shoty do północy! #Dekada20\n\n☞ 17.10
  SALA GŁÓWNA » CzwartkoTeka\n☞ Maurycy Ra\n☞ MUSIC » Taneczny misz
  masz czyli ulubione numery z lat 80\,90\,00 - coś do potupania nogą\, j
 ak i przytulańca.\n\n☞ OPEN » 21:00\n☞ Double Shot Bar do północy!
 \n☞ Wjazd FREE przez całą noc!\nRezerwacja: +48 600 856 571\, rezerwac
 ja@dekada.pl\n\nMordor Na Domaniewskiej / Korpo Voice / Radio ESKA / Mówi
 ą Na Mieście / Warszawa naszemiasto.pl / Warszawa za darmo - waw4free
ATTACH;FMTTYPE=image/jpeg:https://night4u.pl/wp-content/uploads/2019/10/73
 791_image_72234559_2438388882882529_937735031667818496_o.jpg
CATEGORIES:mazowieckie
LOCATION:KLUB DEKADA\, ul. Grójecka 19/25\, Ochota\, 02-021\, Poland
GEO:52.22134;20.98615
X-APPLE-STRUCTURED-LOCATION;VALUE=URI;X-ADDRESS=ul. Grójecka 19/25\, Ochot
 a\, 02-021\, Poland;X-APPLE-RADIUS=100;X-TITLE=KLUB DEKADA:geo:52.22134,20
 .98615
END:VEVENT
BEGIN:VTIMEZONE
TZID:Europe/Warsaw
X-LIC-LOCATION:Europe/Warsaw
BEGIN:DAYLIGHT
DTSTART:20190331T030000
TZOFFSETFROM:+0100
TZOFFSETTO:+0200
TZNAME:CEST
END:DAYLIGHT
END:VTIMEZONE
END:VCALENDAR