BEGIN:VCALENDAR
VERSION:2.0
PRODID:-//wp-events-plugin.com//7.2.3.1//EN
TZID:Europe/Warsaw
X-WR-TIMEZONE:Europe/Warsaw
BEGIN:VEVENT
UID:48429@night4u.pl
DTSTART;TZID=Europe/Warsaw:20200229T220000
DTEND;TZID=Europe/Warsaw:20200301T050000
DTSTAMP:20200225T180701Z
URL:https://night4u.pl/wydarzenia/dekada-%e2%9c%98-lets-get-loud-%e2%9c%98
 -dj-funktion-%e2%9c%98-dj-andrew-%e2%9c%98/
SUMMARY:Dekada ✘ Let's Get Loud! ✘ DJ Funktion ✘ DJ Andrew ✘
DESCRIPTION:Neonów blask i parkietu moc w klubie Dekada! DJ Funktion wie j
 ak sprawić\, że nie będziecie podpierać ścian i ruszycie potańczyć.
  Temperatura rośnie\, a my już szykujemy orzeźwiające drinki! Niech im
 preza trwa! \n\nSALA GŁÓWNA: DJ Funktion\n♪♪ MUSIC » Hottest tracks
  from the 90s\, 00s and today.\n\nSALA POLSKA: DJ Andrew\n♪♪ MUSIC » 
 Najlepsza polska muzyka popularna.\n\nOPEN: 22:00 \nWSTĘP:\n- Panie 20 pl
 n\n- Panowie 25 pln\n- wejście free do 23:00 » www.dekada.pl/lista-gosci
  (dopisz się do listy)\nŚNIADANIE » 05:00\nRezerwacja: +48 600 856 571\
 , rezerwacja@dekada.pl\n\nRadio ESKA / Mówią Na Mieście / Warszawa nasz
 emiasto.pl
ATTACH;FMTTYPE=image/jpeg:https://night4u.pl/wp-content/uploads/2020/02/16
 5534_image_87367836_2723256274395787_5022518864563404800_o.jpg
CATEGORIES:mazowieckie
LOCATION:KLUB DEKADA\, ul. Grójecka 19/25\, Ochota\, 02-021\, Poland
GEO:52.22134;20.98615
X-APPLE-STRUCTURED-LOCATION;VALUE=URI;X-ADDRESS=ul. Grójecka 19/25\, Ochot
 a\, 02-021\, Poland;X-APPLE-RADIUS=100;X-TITLE=KLUB DEKADA:geo:52.22134,20
 .98615
END:VEVENT
BEGIN:VTIMEZONE
TZID:Europe/Warsaw
X-LIC-LOCATION:Europe/Warsaw
BEGIN:STANDARD
DTSTART:20191027T020000
TZOFFSETFROM:+0200
TZOFFSETTO:+0100
TZNAME:CET
END:STANDARD
END:VTIMEZONE
END:VCALENDAR