BEGIN:VCALENDAR
VERSION:2.0
PRODID:-//wp-events-plugin.com//7.2.3.1//EN
TZID:Europe/Warsaw
X-WR-TIMEZONE:Europe/Warsaw
BEGIN:VEVENT
UID:37811@night4u.pl
DTSTART;TZID=Europe/Warsaw:20191206T220000
DTEND;TZID=Europe/Warsaw:20191207T050000
DTSTAMP:20191206T175735Z
URL:https://night4u.pl/wydarzenia/dekada-%e2%9c%98-topofsantapop-%e2%9c%98
 -dj-warson-%e2%9c%98/
SUMMARY:Dekada ✘ TopOfSantaPop ✘ DJ Warson ✘
DESCRIPTION:Wyjątkowa edycja Top Of Pop to impreza w świątecznym klimaci
 e! Przez całą noc gramy dla Was ponadczasowe popowe utwory\, jak i najno
 wsze radiowe hity. Zadba o to DJ Warson!\n\nSALA GŁÓWNA » Top Of Santa 
 Pop\nDJ Warson\n♪♪ MUSIC » Hottest pop tracks from the 90s\, 00s and 
 today.\n\nOPEN: 22:00 \nWSTĘP:\n- Panie 20 pln\n- Panowie 25 pln\n- wejś
 cie free do 23:00 » www.dekada.pl/lista-gosci (dopisz się do listy)\nŚN
 IADANIE » 05:00\nRezerwacja: +48 600 856 571\, rezerwacja@dekada.pl\n\nRe
 dakcja MNM / Mówią Na Mieście / Warszawa naszemiasto.pl
ATTACH;FMTTYPE=image/jpeg:https://night4u.pl/wp-content/uploads/2019/11/10
 6527_image_76943662_2538684259519657_7177614869649162240_o.jpg
CATEGORIES:mazowieckie
LOCATION:KLUB DEKADA\, ul. Grójecka 19/25\, Ochota\, 02-021\, Poland
GEO:52.22134;20.98615
X-APPLE-STRUCTURED-LOCATION;VALUE=URI;X-ADDRESS=ul. Grójecka 19/25\, Ochot
 a\, 02-021\, Poland;X-APPLE-RADIUS=100;X-TITLE=KLUB DEKADA:geo:52.22134,20
 .98615
END:VEVENT
BEGIN:VTIMEZONE
TZID:Europe/Warsaw
X-LIC-LOCATION:Europe/Warsaw
BEGIN:STANDARD
DTSTART:20191027T020000
TZOFFSETFROM:+0200
TZOFFSETTO:+0100
TZNAME:CET
END:STANDARD
END:VTIMEZONE
END:VCALENDAR