BEGIN:VCALENDAR
VERSION:2.0
PRODID:-//wp-events-plugin.com//7.2.3.1//EN
TZID:Europe/Warsaw
X-WR-TIMEZONE:Europe/Warsaw
BEGIN:VEVENT
UID:14172@night4u.pl
DTSTART;TZID=Europe/Warsaw:20190511T220000
DTEND;TZID=Europe/Warsaw:20190512T050000
DTSTAMP:20190429T194942Z
URL:https://night4u.pl/wydarzenia/dekada-80s-steve-nash-klawisze-kombinat/
SUMMARY:Dekada 80's & STEVE NASH (klawisze) « Kombinat
DESCRIPTION:Wielki powrót lat '80 ze Stevem Nashem na klawiszach! Utwory t
 akie jak "Final Countdown" czy "Boys Boys Boys" kojarzą wszyscy\, a Steve
  zagra je dla Was na żywo! Do tego podwójna moc za gramofonami w postaci
  jak zawsze uśmiechniętych DJ Funktion oraz DJ Warson. ⚡️⚡️  #20
 yearschallenge\n\nSALA GŁÓWNA » Dekada 80's\nSTEVE NASH (Klawisze) oraz
  DJ FUNKTION (Gramofon)\nDJ WARSON (Flamingo Cartel)\n♪♪ MUSIC » Hott
 est tracks from the 90s\, 00s and today.\n\nSALA POLSKA  » Kombinat\nDj S
 hine\n♪♪ MUSIC » Najlepsza polska muzyka taneczna.\n\nOPEN: 22:00 \nW
 STĘP:\n- Panie 20 pln\n- Panowie 25 pln\n- wejście free do 23:00 » www.
 dekada.pl/lista-gosci (dopisz się do listy)\n– shoty za 5 złotych na B
 arze Polskim\nŚNIADANIE » 05:00\nRezerwacja: +48 600 856 571\, rezerwacj
 a@dekada.pl\n\nRadio ESKA / Mówią Na Mieście / Warszawa naszemiasto.pl
ATTACH;FMTTYPE=image/jpeg:https://night4u.pl/wp-content/uploads/2019/04/35
 450_image_59051836_2153687574685996_2444447951817277440_o.jpg
CATEGORIES:mazowieckie
LOCATION:KLUB DEKADA\, ul. Grójecka 19/25\, Ochota\, 02-021\, Poland
GEO:52.22134;20.98615
X-APPLE-STRUCTURED-LOCATION;VALUE=URI;X-ADDRESS=ul. Grójecka 19/25\, Ochot
 a\, 02-021\, Poland;X-APPLE-RADIUS=100;X-TITLE=KLUB DEKADA:geo:52.22134,20
 .98615
END:VEVENT
BEGIN:VTIMEZONE
TZID:Europe/Warsaw
X-LIC-LOCATION:Europe/Warsaw
BEGIN:DAYLIGHT
DTSTART:20190331T030000
TZOFFSETFROM:+0100
TZOFFSETTO:+0200
TZNAME:CEST
END:DAYLIGHT
END:VTIMEZONE
END:VCALENDAR