BEGIN:VCALENDAR
VERSION:2.0
PRODID:-//wp-events-plugin.com//7.2.3.1//EN
TZID:Europe/Warsaw
X-WR-TIMEZONE:Europe/Warsaw
BEGIN:VEVENT
UID:2558@night4u.pl
DTSTART;TZID=Europe/Warsaw:20190111T220000
DTEND;TZID=Europe/Warsaw:20190112T050000
DTSTAMP:20190104T231936Z
URL:https://night4u.pl/wydarzenia/dekada-bananarama-dookola-dzungla/
SUMMARY:Dekada » Bananarama » Dookoła Dżungla «
DESCRIPTION:Bananarama to nasz rozpoznawalny cykl\, na którym szalejemy do
  samego rana! Nie obędzie się bez wyjątkowych\, zwariowanych gości i n
 ajlepszych radiowych hitów.\n\nSALA GŁÓWNA » \nDJ CHRIS DTS\nMUSIC » 
 Hottest tracks from the 90s\, 00s and today.\n\nSALA POLSKA » Dookoła D
 żungla\nDj Shine\n♪♪ MUSIC » Najlepsza polska muzyka popularna.\n\nO
 PEN: 22:00 \nWSTĘP:\n- Panie 15 pln\n- Panowie 20 pln\n- wejście free do
  23:00 » www.dekada.pl/lista-gosci (dopisz się do listy)\n- shoty za 5 z
 łotych na Barze Polskim\nŚNIADANIE » 05:00\nRezerwacja: +48 600 856 571
 \, rezerwacja@dekada.pl\n\nRedakcja MNM / Mówią Na Mieście / Warszawa n
 aszemiasto.pl
ATTACH;FMTTYPE=image/jpeg:https://night4u.pl/wp-content/uploads/2019/01/92
 23_image_49949094_1979865898734832_758761433751093248_o.jpg
CATEGORIES:mazowieckie
LOCATION:KLUB DEKADA\, ul. Grójecka 19/25\, Ochota\, 02-021\, Poland
GEO:52.22134;20.98615
X-APPLE-STRUCTURED-LOCATION;VALUE=URI;X-ADDRESS=ul. Grójecka 19/25\, Ochot
 a\, 02-021\, Poland;X-APPLE-RADIUS=100;X-TITLE=KLUB DEKADA:geo:52.22134,20
 .98615
END:VEVENT
BEGIN:VTIMEZONE
TZID:Europe/Warsaw
X-LIC-LOCATION:Europe/Warsaw
BEGIN:STANDARD
DTSTART:20181028T020000
TZOFFSETFROM:+0200
TZOFFSETTO:+0100
TZNAME:CET
END:STANDARD
END:VTIMEZONE
END:VCALENDAR