BEGIN:VCALENDAR
VERSION:2.0
PRODID:-//wp-events-plugin.com//7.2.3.1//EN
TZID:Europe/Warsaw
X-WR-TIMEZONE:Europe/Warsaw
BEGIN:VEVENT
UID:26837@night4u.pl
DTSTART;TZID=Europe/Warsaw:20190921T220000
DTEND;TZID=Europe/Warsaw:20190922T050000
DTSTAMP:20190907T175831Z
URL:https://night4u.pl/wydarzenia/dekada-forever-young-chodz-pomaluj-moj-s
 wiat/
SUMMARY:Dekada » Forever Young « Chodź\, Pomaluj Mój Świat
DESCRIPTION:Pamiętacie czasy\, kiedy skakało się po drzewach\, grało w 
 klasy i wymieniało się kasetami z ulubionymi składankami? Teraz jest ok
 azja\, by znowu poczuć się jak w latach beztroski. DJ Warson przypomni W
 am najlepsze hity\, a odwiedzą nas utalentowani goście\, ale o tym dowie
 cie się na miejscu. Wiemy jak bardzo uwielbiacie Salę Polską\, więc wr
 acamy z jeszcze większą energią razem z DJ DRED! Wspólnie stwórzmy ni
 ezapomniane chwile tej nocy! #20yearschallenge\n\nSALA GŁÓWNA » Forever
  Young\nDJ Warson (Flamingo Cartel) oraz taneczni goście!\n♪♪ MUSIC 
 » Hottest tracks from the 90s\, 00s and today with amazing dance show tha
 t makes You wanna move.\n\nSALA POLSKA » Chodź\, Pomaluj Mój Świat\nDJ
  Dred\n♪♪ MUSIC » Najlepsza polska muzyka popularna.\n\nOPEN: 22:00 \
 nWSTĘP:\n- Panie 20 pln\n- Panowie 25 pln\n- wejście free do 23:00 » ww
 w.dekada.pl/lista-gosci (dopisz się do listy)\n– shoty za 5 złotych na
  Barze Polskim\nŚNIADANIE » 05:00\nRezerwacja: +48 600 856 571\, rezerwa
 cja@dekada.pl\n\nRadio ESKA / Mówią Na Mieście / Warszawa naszemiasto.p
 l
ATTACH;FMTTYPE=image/jpeg:https://night4u.pl/wp-content/uploads/2019/09/62
 573_image_70251364_2373823486005736_1185876105769254912_o.jpg
CATEGORIES:mazowieckie
LOCATION:KLUB DEKADA\, ul. Grójecka 19/25\, Ochota\, 02-021\, Poland
GEO:52.22134;20.98615
X-APPLE-STRUCTURED-LOCATION;VALUE=URI;X-ADDRESS=ul. Grójecka 19/25\, Ochot
 a\, 02-021\, Poland;X-APPLE-RADIUS=100;X-TITLE=KLUB DEKADA:geo:52.22134,20
 .98615
END:VEVENT
BEGIN:VTIMEZONE
TZID:Europe/Warsaw
X-LIC-LOCATION:Europe/Warsaw
BEGIN:DAYLIGHT
DTSTART:20190331T030000
TZOFFSETFROM:+0100
TZOFFSETTO:+0200
TZNAME:CEST
END:DAYLIGHT
END:VTIMEZONE
END:VCALENDAR