BEGIN:VCALENDAR
VERSION:2.0
PRODID:-//wp-events-plugin.com//7.2.3.1//EN
TZID:Europe/Warsaw
X-WR-TIMEZONE:Europe/Warsaw
BEGIN:VEVENT
UID:51324@night4u.pl
DTSTART;TZID=Europe/Warsaw:20211001T220000
DTEND;TZID=Europe/Warsaw:20211002T050000
DTSTAMP:20210925T142204Z
URL:https://night4u.pl/wydarzenia/dekada-fridaymadness-dj-shine/
SUMMARY:DEKADA: #FridayMadness | DJ Shine
DESCRIPTION:Weekend zaczynamy w najlepszym stylu szaloną piątkową imprez
 ą! \nDj Shine zapowiada noc z najlepszą muzyką. \nTańczymy do samego 
 śniadania!\n\n♯SALA GŁÓWNA: DJ Shine\n♯MUSIC » Hottest tracks from
  the 80s\, 90s\, 00s and today.\n\n♯OPEN: 22:00\n♯WSTĘP:\n- panie 20 
 pln\n- panowie 25 pln\n- wejście free do 23:00 » www.dekada.pl/lista-gos
 ci (dopisz się do listy)\n♯ŚNIADANIE » 05:00\n\n♯REZERWACJA: +48600
 856571\, rezerwacja@dekada.pl
ATTACH;FMTTYPE=image/jpeg:https://night4u.pl/wp-content/uploads/2021/09/18
 7029_image_242662536_4287592771295455_632384512159817799_n.jpg
CATEGORIES:mazowieckie
LOCATION:KLUB DEKADA\, ul. Grójecka 19/25\, Ochota\, 02-021\, Poland
GEO:52.22134;20.98615
X-APPLE-STRUCTURED-LOCATION;VALUE=URI;X-ADDRESS=ul. Grójecka 19/25\, Ochot
 a\, 02-021\, Poland;X-APPLE-RADIUS=100;X-TITLE=KLUB DEKADA:geo:52.22134,20
 .98615
END:VEVENT
BEGIN:VTIMEZONE
TZID:Europe/Warsaw
X-LIC-LOCATION:Europe/Warsaw
BEGIN:DAYLIGHT
DTSTART:20210328T030000
TZOFFSETFROM:+0100
TZOFFSETTO:+0200
TZNAME:CEST
END:DAYLIGHT
END:VTIMEZONE
END:VCALENDAR