BEGIN:VCALENDAR
VERSION:2.0
PRODID:-//wp-events-plugin.com//7.2.3.1//EN
TZID:Europe/Warsaw
X-WR-TIMEZONE:Europe/Warsaw
BEGIN:VEVENT
UID:32929@night4u.pl
DTSTART;TZID=Europe/Warsaw:20191026T220000
DTEND;TZID=Europe/Warsaw:20191027T050000
DTSTAMP:20250901T211002Z
URL:https://night4u.pl/wydarzenia/dekada-ghostbusters-kto-boi-sie-duchow/
SUMMARY:Dekada » Ghostbusters « Kto Boi Się Duchów?
DESCRIPTION:Kto boi się duchów? Na pewnie nie MY! Brrr\, aż przeszła na
 s gęsia skórka. Tutaj bawią się sami pogromcy złej energii\, którzy 
 w każdy weekend stawiają czoła nowym wyzwaniom na parkiecie. Nasz głó
 wny bohater DJ Chris DTS przyleci w sobotnią noc\, aby uratować świat s
 woimi pozytywnymi wibracjami poprzez membrany potężnych głośników! Do
 datkowo mamy wsparcie siłą polskich numerów granych przez DJ Tomala na 
 Sali Polskiej!\n\nSALA GŁÓWNA » Ghostbusters\nDJ Chris DTS\nMUSIC » Ho
 ttest tracks from the 90s\, 00s and today.\n\nSALA POLSKA » Kto Boi Się 
 Duchów?\nDJ Tomala\n♪♪ MUSIC » Najlepsza polska muzyka popularna.\n\
 nOPEN: 22:00\nWSTĘP:\n- Panie 20 pln\n- Panowie 25 pln\n- wejście free d
 o 23:00 » www.dekada.pl/lista-gosci (dopisz się do listy)\nŚNIADANIE »
  05:00\nRezerwacja: +48 600 856 571\, rezerwacja@dekada.pl\n\nRadio ESKA /
  Mówią Na Mieście / Warszawa naszemiasto.pl
ATTACH;FMTTYPE=image/jpeg:https://night4u.pl/wp-content/uploads/2019/10/80
 948_image_72664308_2456264521094965_8852980482518810624_o.jpg
CATEGORIES:mazowieckie
LOCATION:KLUB DEKADA\, ul. Grójecka 19/25\, Ochota\, 02-021\, Poland
GEO:52.22134;20.98615
X-APPLE-STRUCTURED-LOCATION;VALUE=URI;X-ADDRESS=ul. Grójecka 19/25\, Ochot
 a\, 02-021\, Poland;X-APPLE-RADIUS=100;X-TITLE=KLUB DEKADA:geo:52.22134,20
 .98615
END:VEVENT
BEGIN:VTIMEZONE
TZID:Europe/Warsaw
X-LIC-LOCATION:Europe/Warsaw
BEGIN:DAYLIGHT
DTSTART:20190331T030000
TZOFFSETFROM:+0100
TZOFFSETTO:+0200
TZNAME:CEST
END:DAYLIGHT
BEGIN:STANDARD
DTSTART:20191027T020000
TZOFFSETFROM:+0200
TZOFFSETTO:+0100
TZNAME:CET
END:STANDARD
END:VTIMEZONE
END:VCALENDAR