BEGIN:VCALENDAR
VERSION:2.0
PRODID:-//wp-events-plugin.com//7.2.3.1//EN
TZID:Europe/Warsaw
X-WR-TIMEZONE:Europe/Warsaw
BEGIN:VEVENT
UID:14175@night4u.pl
DTSTART;TZID=Europe/Warsaw:20190509T220000
DTEND;TZID=Europe/Warsaw:20190510T050000
DTSTAMP:20190429T194944Z
URL:https://night4u.pl/wydarzenia/dekada-ladies-night-ah-lenny/
SUMMARY:Dekada » Ladies Night\, Ah Lenny! «
DESCRIPTION:Kiedy Lenny Kravitz przyjeżdża do Polski to wiele serc zaczyn
 a bić podwójnym tempem \;) Z tej okazji DJ Finger przygotował dla Was w
 yjątkową selekcję jego utworów w klubowych remixach mieszając to z ta
 necznymi klasykami Dekady. Panie są najważniejsze tej nocy\, więc wchod
 zą za darmo do klubu\, a drinki otrzymują za darmo. "Niech Miłość Trw
 a"! #20yearschallenge\n\nSALA GŁÓWNA » Ladies Night\nDJ FINGER\nMUSIC 
 » Hottest tracks from the 90s\, 00s and today.\n\nOPEN » 22:00\nPanowie 
 WEJŚCIE FREE do 23:00 » www.dekada.pl/lista-gosci \nRezerwacja: +48 600 
 856 571\, rezerwacja@dekada.pl\n\nRadio ESKA / Mówią Na Mieście / Warsz
 awa naszemiasto.pl
ATTACH;FMTTYPE=image/jpeg:https://night4u.pl/wp-content/uploads/2019/04/35
 457_image_59285555_2153710084683745_3917933802374037504_o.jpg
CATEGORIES:mazowieckie
LOCATION:KLUB DEKADA\, ul. Grójecka 19/25\, Ochota\, 02-021\, Poland
GEO:52.22134;20.98615
X-APPLE-STRUCTURED-LOCATION;VALUE=URI;X-ADDRESS=ul. Grójecka 19/25\, Ochot
 a\, 02-021\, Poland;X-APPLE-RADIUS=100;X-TITLE=KLUB DEKADA:geo:52.22134,20
 .98615
END:VEVENT
BEGIN:VTIMEZONE
TZID:Europe/Warsaw
X-LIC-LOCATION:Europe/Warsaw
BEGIN:DAYLIGHT
DTSTART:20190331T030000
TZOFFSETFROM:+0100
TZOFFSETTO:+0200
TZNAME:CEST
END:DAYLIGHT
END:VTIMEZONE
END:VCALENDAR