BEGIN:VCALENDAR
VERSION:2.0
PRODID:-//wp-events-plugin.com//7.2.3.1//EN
TZID:Europe/Warsaw
X-WR-TIMEZONE:Europe/Warsaw
BEGIN:VEVENT
UID:14176@night4u.pl
DTSTART;TZID=Europe/Warsaw:20190510T220000
DTEND;TZID=Europe/Warsaw:20190511T050000
DTSTAMP:20190429T194944Z
URL:https://night4u.pl/wydarzenia/dekada-lets-get-loud/
SUMMARY:Dekada » Let's Get Loud! «
DESCRIPTION:Lubimy przeżywać noc\, a najlepiej kiedy robimy to wspólnie 
 na środku parkietu! Kiedy temperatura wzrasta\, na barze czeka orzeźwien
 ie\, a DJ Chris DTS puszcza w tle najnowsze trendy z mainstreamowej muzyki
  po oldschoolowe przeboje. #20yearschallenge\n\nSALA GŁÓWNA » Let's Get
  Loud!\nDJ Chris DTS\nMUSIC » Hottest tracks from the 90s\, 00s and today
 .\n\nOPEN: 22:00 \nWSTĘP:\n- Panie 15 pln\n- Panowie 20 pln\n- wejście f
 ree do 23:00 » www.dekada.pl/lista-gosci (dopisz się do listy)\n- shoty 
 za 5 złotych na Barze Polskim\nŚNIADANIE » 05:00\nRezerwacja: +48 600 8
 56 571\, rezerwacja@dekada.pl\n\nRadio ESKA / Mówią Na Mieście / Warsza
 wa naszemiasto.pl
ATTACH;FMTTYPE=image/jpeg:https://night4u.pl/wp-content/uploads/2019/04/35
 459_image_58895105_2153700371351383_943517255944110080_o.jpg
CATEGORIES:mazowieckie
LOCATION:KLUB DEKADA\, ul. Grójecka 19/25\, Ochota\, 02-021\, Poland
GEO:52.22134;20.98615
X-APPLE-STRUCTURED-LOCATION;VALUE=URI;X-ADDRESS=ul. Grójecka 19/25\, Ochot
 a\, 02-021\, Poland;X-APPLE-RADIUS=100;X-TITLE=KLUB DEKADA:geo:52.22134,20
 .98615
END:VEVENT
BEGIN:VTIMEZONE
TZID:Europe/Warsaw
X-LIC-LOCATION:Europe/Warsaw
BEGIN:DAYLIGHT
DTSTART:20190331T030000
TZOFFSETFROM:+0100
TZOFFSETTO:+0200
TZNAME:CEST
END:DAYLIGHT
END:VTIMEZONE
END:VCALENDAR