BEGIN:VCALENDAR
VERSION:2.0
PRODID:-//wp-events-plugin.com//7.2.3.1//EN
TZID:Europe/Warsaw
X-WR-TIMEZONE:Europe/Warsaw
BEGIN:VEVENT
UID:41672@night4u.pl
DTSTART;TZID=Europe/Warsaw:20200110T220000
DTEND;TZID=Europe/Warsaw:20200111T050000
DTSTAMP:20200109T175701Z
URL:https://night4u.pl/wydarzenia/dekada-things-%e2%9c%98-steve-nash-%e2%9
 c%98-dj-funktion-%e2%9c%98/
SUMMARY:Dekada Things ✘ Steve Nash ✘ DJ Funktion ✘
DESCRIPTION:Neonowe lata '80\, syntezatory i nietypowa atmosfera pełna zas
 kakujących zwrotów akcji. Bądźcie czujni\, żeby nie przegapić żywio
 łowej gry Steve'a Nasha na klawiszach oraz DJ Funktion na gramofonie! #De
 kada20\n\nSteve Nash – remikser\, producent muzyczny\, kompozytor i pian
 ista. Trzykrotny mistrz świata DJ-ów International Dj Association w lata
 ch 2012\, 2013 i 2015\, wicemistrz Sample Music Festival (2017). Ukończy
 ł Państwową Ogólnokształcącą Szkołę Muzyczną II st. w Częstocho
 wie i Akademię Muzyczną im. Grażyny i Kiejstuta Bacewiczów w Łodzi. W
 spółpracował z wykonawcami muzyki jak np. O.S.T.R.\, Małpa\, Grubson\,
  a w ramach Męskiego Grania 2016 z Tomaszem Organkiem\, Dawidem Podsiadł
 o czy z O.S.T.R.-em. Twórca projektu Steve Nash &amp\; Turntable Orchestr
 a - nowatorsko łączącego muzykę klasyczną z elektroniką i jazzem\, z
  wykorzystaniem orkiestry i turntablizmu. Projekt ten został nagrodzony w
  2017 r. Nagrodą Muzyczną Programu Trzeciego – „Mateusz” w kategor
 ii muzyki rozrywkowej. \n\nSALA GŁÓWNA » Dekada Things\nSteve Nash (kla
 wisze)\nDJ Funktion (gramofon)\nMUSIC » Hottest tracks from the 90s\, 00s
  and today with that 80s vibe.\n\nSALA POLSKA » \nDJ Andrew\n♪♪ MUSIC
  » Najlepsza polska muzyka popularna.\n\nOPEN: 22:00\nWSTĘP:\n- Panie 20
  pln\n- Panowie 25 pln\n- wejście free do 23:00 » www.dekada.pl/lista-go
 sci (dopisz się do listy)\nŚNIADANIE » 05:00\nRezerwacja: +48 600 856 5
 71\, rezerwacja@dekada.pl\n\nRadio ESKA / Mówią Na Mieście / Warszawa n
 aszemiasto.pl
ATTACH;FMTTYPE=image/jpeg:https://night4u.pl/wp-content/uploads/2020/01/13
 0743_image_82526316_2627365807318168_6155733796495818752_o.jpg
CATEGORIES:mazowieckie
LOCATION:KLUB DEKADA\, ul. Grójecka 19/25\, Ochota\, 02-021\, Poland
GEO:52.22134;20.98615
X-APPLE-STRUCTURED-LOCATION;VALUE=URI;X-ADDRESS=ul. Grójecka 19/25\, Ochot
 a\, 02-021\, Poland;X-APPLE-RADIUS=100;X-TITLE=KLUB DEKADA:geo:52.22134,20
 .98615
END:VEVENT
BEGIN:VTIMEZONE
TZID:Europe/Warsaw
X-LIC-LOCATION:Europe/Warsaw
BEGIN:STANDARD
DTSTART:20191027T020000
TZOFFSETFROM:+0200
TZOFFSETTO:+0100
TZNAME:CET
END:STANDARD
END:VTIMEZONE
END:VCALENDAR