BEGIN:VCALENDAR
VERSION:2.0
PRODID:-//wp-events-plugin.com//7.2.3.1//EN
TZID:Europe/Warsaw
X-WR-TIMEZONE:Europe/Warsaw
BEGIN:VEVENT
UID:10395@night4u.pl
DTSTART;TZID=Europe/Warsaw:20190322T220000
DTEND;TZID=Europe/Warsaw:20190323T050000
DTSTAMP:20190318T195549Z
URL:https://night4u.pl/wydarzenia/dekada-top-of-pop-chcemy-byc-soba/
SUMMARY:Dekada » Top Of Pop « Chcemy Być Sobą
DESCRIPTION:"Chciałbym być sobą\, \nchciałbym być sobą wreszcie"\n\nZ
 ew wolności wzywa do klubu Dekada na parkiet pełen popowych i dance'owyc
 h brzmień od pozytywnie zakręconego DJ Warsona. Cała Sala Polska będzi
 e tańczyć do największych polskich przebojów przygotowanych przez DJ M
 ore.\n\nSALA GŁÓWNA » Top Of Pop\nDJ WARSON (Flamingo Cartel)\nMUSIC »
  Hottest tracks from the 90s\, 00s and today pop\, dance and more.\n\nSALA
  POLSKA » Chcemy Być Sobą\nDJ More\n♪♪ MUSIC » Najlepsza polska mu
 zyka popularna.\n\nOPEN: 22:00 \nWSTĘP:\n- Panie 15 pln\n- Panowie 20 pln
 \n- wejście free do 23:00 » www.dekada.pl/lista-gosci (dopisz się do li
 sty)\n- shoty za 5 złotych na Barze Polskim\nŚNIADANIE » 05:00\nRezerwa
 cja: +48 600 856 571\, rezerwacja@dekada.pl\n\nRadio ESKA / Mówią Na Mie
 ście / Warszawa naszemiasto.pl
ATTACH;FMTTYPE=image/jpeg:https://night4u.pl/wp-content/uploads/2019/03/27
 449_image_54435694_2080785898642831_155937639608877056_o.jpg
CATEGORIES:mazowieckie
LOCATION:KLUB DEKADA\, ul. Grójecka 19/25\, Ochota\, 02-021\, Poland
GEO:52.22134;20.98615
X-APPLE-STRUCTURED-LOCATION;VALUE=URI;X-ADDRESS=ul. Grójecka 19/25\, Ochot
 a\, 02-021\, Poland;X-APPLE-RADIUS=100;X-TITLE=KLUB DEKADA:geo:52.22134,20
 .98615
END:VEVENT
BEGIN:VTIMEZONE
TZID:Europe/Warsaw
X-LIC-LOCATION:Europe/Warsaw
BEGIN:STANDARD
DTSTART:20181028T020000
TZOFFSETFROM:+0200
TZOFFSETTO:+0100
TZNAME:CET
END:STANDARD
END:VTIMEZONE
END:VCALENDAR