BEGIN:VCALENDAR
VERSION:2.0
PRODID:-//wp-events-plugin.com//7.2.3.1//EN
TZID:Europe/Warsaw
X-WR-TIMEZONE:Europe/Warsaw
BEGIN:VEVENT
UID:2045@night4u.pl
DTSTART;TZID=Europe/Warsaw:20190104T220000
DTEND;TZID=Europe/Warsaw:20190105T050000
DTSTAMP:20181231T132922Z
URL:https://night4u.pl/wydarzenia/dekada-warsaw-celebration/
SUMMARY:Dekada » Warsaw Celebration «
DESCRIPTION:W Nowym Roku celebrujemy w warszawskim stylu. Nie zabraknie nie
 zapomnianych przebojów\, jak i najnowszych hitów serwowanych od DJ FUNKT
 ION!\n\nSALA GŁÓWNA » Dekada » Warsaw Celebration «\nDJ FUNKTION\nMUS
 IC » Hottest tracks from the 90s\, 00s and today.\n\nOPEN: 22:00 \nWSTĘP
 :\n- Panie 15 pln\n- Panowie 20 pln\n- wejście free do 23:00 » www.dekad
 a.pl/lista-gosci (dopisz się do listy)\n- shoty za 5 złotych na Barze Po
 lskim\nŚNIADANIE » 05:00\nRezerwacja: +48 600 856 571\, rezerwacja@dekad
 a.pl\n\nRedakcja MNM / Mówią Na Mieście / Warszawa naszemiasto.pl
ATTACH;FMTTYPE=image/jpeg:https://night4u.pl/wp-content/uploads/2018/12/81
 05_image_48417191_1948788148509274_2029691223559634944_o.jpg
CATEGORIES:mazowieckie
LOCATION:KLUB DEKADA\, ul. Grójecka 19/25\, Ochota\, 02-021\, Poland
GEO:52.22134;20.98615
X-APPLE-STRUCTURED-LOCATION;VALUE=URI;X-ADDRESS=ul. Grójecka 19/25\, Ochot
 a\, 02-021\, Poland;X-APPLE-RADIUS=100;X-TITLE=KLUB DEKADA:geo:52.22134,20
 .98615
END:VEVENT
BEGIN:VTIMEZONE
TZID:Europe/Warsaw
X-LIC-LOCATION:Europe/Warsaw
BEGIN:STANDARD
DTSTART:20181028T020000
TZOFFSETFROM:+0200
TZOFFSETTO:+0100
TZNAME:CET
END:STANDARD
END:VTIMEZONE
END:VCALENDAR