BEGIN:VCALENDAR
VERSION:2.0
PRODID:-//wp-events-plugin.com//7.2.3.1//EN
TZID:Europe/Warsaw
X-WR-TIMEZONE:Europe/Warsaw
BEGIN:VEVENT
UID:51325@night4u.pl
DTSTART;TZID=Europe/Warsaw:20211002T220000
DTEND;TZID=Europe/Warsaw:20211003T050000
DTSTAMP:20210925T142206Z
URL:https://night4u.pl/wydarzenia/dekada-warsawcelebration-dj-tony-dj-yoon
 ior/
SUMMARY:DEKADA: #WarsawCelebration | DJ Tony | DJ Yoonior
DESCRIPTION:Ach\, ta wspaniała Warszawa! Daje nam wiele wyzwań na co dzie
 ń i potrafi zawrócić w głowie. Po całym tygodniu pracy należy się n
 am wszystkim zasłużona celebracja!\n\n♯SALA GŁÓWNA: DJ Tony & DJ Yoo
 nior\n♯MUSIC » Hottest tracks from the 80s\, 90s\, 00s and today.\n\n
 ♯OPEN: 22:00\n♯WSTĘP:\n– panie 20 pln\n– panowie 25 pln\n– wej
 ście free do 23:00 » www.dekada.pl/lista-gosci (dopisz się do listy)\n\
 n♯ŚNIADANIE » 05:00\n♯REZERWACJA: +48600856571\, rezerwacja@dekada.p
 l
ATTACH;FMTTYPE=image/jpeg:https://night4u.pl/wp-content/uploads/2021/09/18
 7031_image_242714289_4288305157890883_8360925613620521027_n.jpg
CATEGORIES:mazowieckie
LOCATION:KLUB DEKADA\, ul. Grójecka 19/25\, Ochota\, 02-021\, Poland
GEO:52.22134;20.98615
X-APPLE-STRUCTURED-LOCATION;VALUE=URI;X-ADDRESS=ul. Grójecka 19/25\, Ochot
 a\, 02-021\, Poland;X-APPLE-RADIUS=100;X-TITLE=KLUB DEKADA:geo:52.22134,20
 .98615
END:VEVENT
BEGIN:VTIMEZONE
TZID:Europe/Warsaw
X-LIC-LOCATION:Europe/Warsaw
BEGIN:DAYLIGHT
DTSTART:20210328T030000
TZOFFSETFROM:+0100
TZOFFSETTO:+0200
TZNAME:CEST
END:DAYLIGHT
END:VTIMEZONE
END:VCALENDAR