BEGIN:VCALENDAR
VERSION:2.0
PRODID:-//wp-events-plugin.com//7.2.3.1//EN
TZID:Europe/Warsaw
X-WR-TIMEZONE:Europe/Warsaw
BEGIN:VEVENT
UID:10374@night4u.pl
DTSTART;TZID=Europe/Warsaw:20190323T210000
DTEND;TZID=Europe/Warsaw:20190324T030000
DTSTAMP:20190317T005702Z
URL:https://night4u.pl/wydarzenia/depeche-mode-night/
SUMMARY:Depeche Mode Night
DESCRIPTION:More Than a Party JG i Klub Kwadrat zapraszają na kolejną edy
 cję kultowej imprezy.\n\nJuż 23-go marca powracamy z depeche MODE night 
 . Za sterami niestrudzeni dMarek i ManieK z MORE THAN A PARTY JG. W muzycz
 nej karcie dań wersje studyjne\, koncertowe a także remiksy z repertuaru
  depeche MODE. W stosownych proporcjach zaserwujemy również dźwięki po
 krewnej muzyki. \n\ndepeche MODE Night\n23.03.2019 (sobota)\nKLUB KWADRAT\
 nul Bankowa 28/30\, Jelenia Góra\nStart: 21.00\nWstęp: 10zł\n\nPrzybywa
 jcie licznie i bawcie się razem z nami. Tego nie można przegapić! \n\nW
 śród uczestników depeche MODE night tradycyjnie rozlosujemy nagrody nie
 spodzianki ufundowane przez More Than a Party Jelenia Góra!
ATTACH;FMTTYPE=image/jpeg:https://night4u.pl/wp-content/uploads/2019/03/27
 375_image_52800507_2649675578393559_1374494353396858880_o.jpg
CATEGORIES:dolnośląskie
LOCATION:Klub KWADRAT\, ul. Bankowa 28/30\, Jelenia Góra\, 58-500\, Poland
GEO:50.901541;15.734755
X-APPLE-STRUCTURED-LOCATION;VALUE=URI;X-ADDRESS=ul. Bankowa 28/30\, Jelenia
  Góra\, 58-500\, Poland;X-APPLE-RADIUS=100;X-TITLE=Klub KWADRAT:geo:50.90
 1541,15.734755
END:VEVENT
BEGIN:VTIMEZONE
TZID:Europe/Warsaw
X-LIC-LOCATION:Europe/Warsaw
BEGIN:STANDARD
DTSTART:20181028T020000
TZOFFSETFROM:+0200
TZOFFSETTO:+0100
TZNAME:CET
END:STANDARD
END:VTIMEZONE
END:VCALENDAR