BEGIN:VCALENDAR
VERSION:2.0
PRODID:-//wp-events-plugin.com//7.2.3.1//EN
TZID:Europe/Warsaw
X-WR-TIMEZONE:Europe/Warsaw
BEGIN:VEVENT
UID:37623@night4u.pl
DTSTART;TZID=Europe/Warsaw:20191206T220000
DTEND;TZID=Europe/Warsaw:20191207T060000
DTSTAMP:20200401T082140Z
URL:https://night4u.pl/wydarzenia/desire-93-pres-pham-proznosc/
SUMMARY:DESiRE '93 pres. Pham | Próżność
DESCRIPTION:✨ Pham w Próżności✨\n\n 🎭Oddajcie się pełni koloró
 w i blasku\, pozostaniecie pod wrażeniem przerysowanych postaci.Bądźcie
  sobą\, bądźcie wyjątkowi 🎭\n\nLista fb (wezmę udział) - do 23:00
  free \n \nTej nocy wróćcie myślami do beztroskich lat dzieciństwa\, k
 iedy nic prócz dobrej zabawy nie miało większego znaczenia.\nOdłóżci
 e problemy na bok\, poddajcie się magicznym uniesieniom.Wybiegnijcie poza
  schematy\, dajcie upust swoim pragnieniom.Przyjdź i poznaj nową definic
 ję przyjemności!\n \nPham to bardzo młody\, a za razem piekielnie uzdol
 niony producent pochodzenia Wietnamsko-Polskiego.Ma na koncie liczne sukce
 sy - współpracę z raperami takimi\, jak Quebonafide\, VNM\, Taco Heming
 way\, Gedz\, Otsochodzi\; legendami R&amp\;B jak Mario. Jednak ze wszystki
 ch sukcesów\, największym jest singiel i EP “Movements”. Tytułowy u
 twór na różnych platformach osiągnął wysoko ponad 100 milionów odtw
 orzeń. Na szczycie swojej popularności Pham zdecydował\, że wykorzysta
  ten czas w inny sposób - zdał sobie sprawę\, że nie musi nic udowadni
 ać powielaniem sprawdzonej formuły. Czas spędzony poza tworzeniem spraw
 ił\, że artysta poczuł jedność z wykonywaną przez siebie muzyką i z
 decydował\, że uwolni ją z zakamarków studia.\n \n Najpopularniejsze p
 rodukcje:\n https://www.youtube.com/watch?v=uuPMXS7dd9s\n https://www.yout
 ube.com/watch?v=TRSnubNnHAU\n https://www.youtube.com/watch?v=3i-VrbTFIWI\
 n https://www.youtube.com/watch?v=a1B7--OQHxI\n https://www.youtube.com/wa
 tch?v=IWNY-UBl_dE\n \n 💫Sala Lustrzana:\n Pham\n Drycleaner\n Matt Bogu
 cki\n \n 💫Sala Szampańska:\n SimoBiskup | Marka Właska\n \n WEJŚCIE:
 \n🔑 - wstęp free\nLista fb (wezmę udział) - do 23:00 free\nPozostali
  goście do 24 - 20 PLN\nPo 24 - 25 PLN\n\nLista zamyka się o 20:00(6.12 
 Piątek).\n\nRezerwacje / Loże: 506203214
ATTACH;FMTTYPE=image/jpeg:https://night4u.pl/wp-content/uploads/2019/11/10
 5315_image_71737752_119391099521366_6432597911065853952_o.jpg
CATEGORIES:wielkopolskie
LOCATION:Próżność\, Niepodległości 8a\, Poznan\, 61-875\, Poland
GEO:52.405584;16.91872
X-APPLE-STRUCTURED-LOCATION;VALUE=URI;X-ADDRESS=Niepodległości 8a\, Pozna
 n\, 61-875\, Poland;X-APPLE-RADIUS=100;X-TITLE=Próżność:geo:52.405584,
 16.91872
END:VEVENT
BEGIN:VTIMEZONE
TZID:Europe/Warsaw
X-LIC-LOCATION:Europe/Warsaw
BEGIN:STANDARD
DTSTART:20191027T020000
TZOFFSETFROM:+0200
TZOFFSETTO:+0100
TZNAME:CET
END:STANDARD
END:VTIMEZONE
END:VCALENDAR