BEGIN:VCALENDAR
VERSION:2.0
PRODID:-//wp-events-plugin.com//7.2.3.1//EN
TZID:Europe/Warsaw
X-WR-TIMEZONE:Europe/Warsaw
BEGIN:VEVENT
UID:22212@night4u.pl
DTSTART;TZID=Europe/Warsaw:20190803T210000
DTEND;TZID=Europe/Warsaw:20190804T050000
DTSTAMP:20190714T170535Z
URL:https://night4u.pl/wydarzenia/despacito-%e2%98%85-latino-night-2/
SUMMARY:DESPACITO ★ Latino night!
DESCRIPTION:DESPACITO ★ Latino night!\nSOB 03.08.19 ★ ENERGY 2000 KATOW
 ICE \nPrzeżyj z nami najwspanialszą imprezową przygodę w rytmach latin
 o! W sobotę 3. sierpnia zapraszamy na gorące jak słońce – DESPACITO!
   Specjalny wystrój i aranżacja\, niesamowite show oraz wyjątkowa niesp
 odzianka! To i o wiele więcej czekać będzie na tych\, którzy odwiedzą
  nas tej wyjątkowej nocy. Jak zwykle w czasie sobotniej imprezy nie zabra
 knie także innych atrakcji i niespodzianek: pokazu pirotechniki sceniczne
 j\, wystrzałów konfetti\, multilaser-show oraz inwazji naszych firmowych
  gadżetów!\n\nBilet: Panie 15 zł\, Panowie 20zł\nWiek: +18 lat\nStart:
  21:00\n \nTego wydarzenia po prostu nie możecie przegapić.\nZagrają dl
 a Was nasi rezydenci:\nMain Stage: Aras\, DeePush\, D-Wave\nDance Stage: M
 efiu\, Kubeck\nVIP Stage: Triks\n \nPROMOCJA / URODZINY/KAWALERSKIE/PANIE
 ŃSKIE – AKTYWNE.\nZasady promocji znajdziesz w naszym FAQ.\n \nRezerwac
 ja loży ON-LINE dla zarejestrowanych i po zalogowaniu na naszej stronie w
  zakładce KLUB/REZERWACJE:\nwww.katowice.energy2000.pl/bilety/\n \nAktywa
 cja pakietów promocyjnych TELEFONICZNIE:\n+48 609 539 619 od pon. do pt. 
 w godz. 8-16.\n \nLokal w pełni klimatyzowany!\nW całym klubie dostępne
  darmowe WI-FI.\nSerdecznie zapraszamy!
ATTACH;FMTTYPE=image/jpeg:https://night4u.pl/wp-content/uploads/2019/07/52
 524_image_66489300_3096331367051127_3541479540922515456_o.jpg
CATEGORIES:śląskie
LOCATION:Energy 2000 Katowice\, Katowice\, Poland
GEO:50.255951;19.02099
X-APPLE-STRUCTURED-LOCATION;VALUE=URI;X-ADDRESS=Katowice\, Poland;X-APPLE-R
 ADIUS=100;X-TITLE=Energy 2000 Katowice:geo:50.255951,19.02099
END:VEVENT
BEGIN:VTIMEZONE
TZID:Europe/Warsaw
X-LIC-LOCATION:Europe/Warsaw
BEGIN:DAYLIGHT
DTSTART:20190331T030000
TZOFFSETFROM:+0100
TZOFFSETTO:+0200
TZNAME:CEST
END:DAYLIGHT
END:VTIMEZONE
END:VCALENDAR