BEGIN:VCALENDAR
VERSION:2.0
PRODID:-//wp-events-plugin.com//7.2.3.1//EN
TZID:Europe/Warsaw
X-WR-TIMEZONE:Europe/Warsaw
BEGIN:VEVENT
UID:15243@night4u.pl
DTSTART;TZID=Europe/Warsaw:20190601T210000
DTEND;TZID=Europe/Warsaw:20190602T050000
DTSTAMP:20190507T203953Z
URL:https://night4u.pl/wydarzenia/despacito-%e2%98%85-latino-night/
SUMMARY:DESPACITO ★ Latino night!
DESCRIPTION:DESPACITO ★ Latino night! \nSOB.01.06.19 ★ ENERGY 2000 PRZY
 TKOWICE\nPrzeżyj z nami najwspanialszą imprezową przygodę w rytmach la
 tino! W sobotę 1 czerwca\, zapraszamy na gorące jak słońce – DESPACI
 TO!  Specjalny wystrój i aranżacja\, niesamowite show oraz wyjątkowa ni
 espodzianka! To i o wiele więcej czekać będzie na tych\, którzy odwied
 zą nas tej wyjątkowej nocy. Jak zwykle w czasie sobotniej imprezy nie za
 braknie także innych atrakcji i niespodzianek: pokazu pirotechniki scenic
 znej\, wystrzałów konfetti\, multilaser-show oraz inwazji naszych firmow
 ych gadżetów: koszulek\, smyczek i silikonowych opasek - sygnowanych log
 iem Energy 2000!\n\nUwaga! W czasie imprezy cenne nagrody do wygrania!\nTV
  /  LAPTOP / POWER AUDIO 600W i TABLETY!\n\nPromocja! Do 24.00 bilety dla 
 Pań 15 zł\nStart godz.21:00 | Wiek: +18 lat| Bilety: 20 zł\n\nZagrają 
 dla Was nasi rezydenci:\nSala Główna: Thomas Don Pablo & Daniels\nSala D
 ance: De Sebastiano & Matt G\nSala VIP: Skrzypa\nSala Top: Discotek\n\nPRO
 MOCJE / URODZINY/KAWALERSKIE/PANIEŃSKIE - AKTYWNE! Zasady promocji znajdz
 iesz w naszym FAQ.\nIlość promocji ograniczona.\n\nRezerwacja loży: ON-
 LINE: Dla zarejestrowanych i po zalogowaniu na naszej stronie www.\, w zak
 ładce: KLUB/REZERWACJE lub TELEFONICZNIE pod nr tel. 33 876 88 12 wew.23 
 od pon. do pt. w godz. 8-16.\nSobota (15:00 – 19:00) pod nr.tel. 609 539
  580\nSerdecznie zapraszamy!
ATTACH;FMTTYPE=image/jpeg:https://night4u.pl/wp-content/uploads/2019/05/37
 673_image_60064161_2321108797935553_3350642594794176512_o.jpg
CATEGORIES:małopolskie
LOCATION:Energy 2000 Przytkowice\, Przytkowice 532 a\, Przytkowice\, 34-141
 \, Poland
GEO:49.902767;19.693146
X-APPLE-STRUCTURED-LOCATION;VALUE=URI;X-ADDRESS=Przytkowice 532 a\, Przytko
 wice\, 34-141\, Poland;X-APPLE-RADIUS=100;X-TITLE=Energy 2000 Przytkowice:
 geo:49.902767,19.693146
END:VEVENT
BEGIN:VTIMEZONE
TZID:Europe/Warsaw
X-LIC-LOCATION:Europe/Warsaw
BEGIN:DAYLIGHT
DTSTART:20190331T030000
TZOFFSETFROM:+0100
TZOFFSETTO:+0200
TZNAME:CEST
END:DAYLIGHT
END:VTIMEZONE
END:VCALENDAR