BEGIN:VCALENDAR
VERSION:2.0
PRODID:-//wp-events-plugin.com//7.2.3.1//EN
TZID:Europe/Warsaw
X-WR-TIMEZONE:Europe/Warsaw
BEGIN:VEVENT
UID:51317@night4u.pl
DTSTART;TZID=Europe/Warsaw:20211009T210000
DTEND;TZID=Europe/Warsaw:20211010T050000
DTSTAMP:20210925T134231Z
URL:https://night4u.pl/wydarzenia/desperados-go-gdansk-maya-jane-coles-tig
 a/
SUMMARY:DESPERADOS GO GDAŃSK: MAYA JANE COLES | TIGA
DESCRIPTION:Robimy hałas\, bo legendarne imprezy Desperadosa powracają w 
 wielkim stylu! Ekskluzywne\, zamknięte wydarzenie: wirtuozi elektroniki M
 aya Jane Coles i TIGA\, doskonałe nagłośnienie\, kosmiczna scenografia 
 i historyczny budynek pełen tajemnic.... Chcesz tam być?\n \nTo skocz do
  Żabki i zrób zakupy z aplikacją Żappka! Kup 15 piw Desperados dla sie
 bie i ekipy\, zeskanuj aplikację i wymień zwycięski kod na bilet przez 
 Going.! Akcja trwa od 15.09.2021 do 5.10.2021\, a liczba wejściówek jest
  ograniczona\, więc… Ruszaj do sklepu i \n\n\nGO GDAŃSK! \nSAVE THE DA
 TE \n9.10.2021 \nKLUB B90\, ELEKTRYKÓW\, GDAŃSK \n\n\nRegulamin promocji
  dostępny na www.zabka.pl \nhttps://goingapp.pl/godesperados
ATTACH;FMTTYPE=image/jpeg:https://night4u.pl/wp-content/uploads/2021/09/18
 7013_image_242119970_1701455373382028_5464899322483601400_n.jpg
CATEGORIES:pomorskie
LOCATION:B90\, Elektryków\, Gdansk\, 80-863\, Poland
GEO:54.36461;18.648686
X-APPLE-STRUCTURED-LOCATION;VALUE=URI;X-ADDRESS=Elektryków\, Gdansk\, 80-8
 63\, Poland;X-APPLE-RADIUS=100;X-TITLE=B90:geo:54.36461,18.648686
END:VEVENT
BEGIN:VTIMEZONE
TZID:Europe/Warsaw
X-LIC-LOCATION:Europe/Warsaw
BEGIN:DAYLIGHT
DTSTART:20210328T030000
TZOFFSETFROM:+0100
TZOFFSETTO:+0200
TZNAME:CEST
END:DAYLIGHT
END:VTIMEZONE
END:VCALENDAR