BEGIN:VCALENDAR
VERSION:2.0
PRODID:-//wp-events-plugin.com//7.2.3.1//EN
TZID:Europe/Warsaw
X-WR-TIMEZONE:Europe/Warsaw
BEGIN:VEVENT
UID:46261@night4u.pl
DTSTART;TZID=Europe/Warsaw:20200215T220000
DTEND;TZID=Europe/Warsaw:20200216T050000
DTSTAMP:20200331T144130Z
URL:https://night4u.pl/wydarzenia/dirty-dancing-i-walentynki-i-sobota/
SUMMARY:Dirty Dancing I Walentynki I Sobota
DESCRIPTION:W sobotnią noc zapraszamy wszystkich spragnionych gorącego ta
 ńca ❤️\nZagramy największe przeboje ostatnich dekad które pochłon
 ą Was na parkiecie \nDajcie się wciągnąć w wir szalonego tańca w wal
 entynkową sobotę 💗\n\nStart: 22:00\nSala główna: Disco &amp\; Pop &
 amp\; Dance 80s-10s \nMała sala: Legendarne Polskie Przeboje\nWstęp[21+]
 : 15 PLN całą noc\nZaproszenia &amp\; Karty VIP: FREE całą noc\n\nInfo
  &amp\; Rezerwacje online:\n☎️ 666 020 100\nhttps://prywatkaklub.pl/re
 zerwacje
ATTACH;FMTTYPE=image/jpeg:https://night4u.pl/wp-content/uploads/2020/02/15
 1808_image_83889160_607455003370989_6435563547329036288_o.jpg
CATEGORIES:łódzkie
LOCATION:Prywatka\, Andrzeja Struga 8/10\, Łódź\, 90-426\, Poland
GEO:51.765118;19.455113
X-APPLE-STRUCTURED-LOCATION;VALUE=URI;X-ADDRESS=Andrzeja Struga 8/10\, Łó
 dź\, 90-426\, Poland;X-APPLE-RADIUS=100;X-TITLE=Prywatka:geo:51.765118,19
 .455113
END:VEVENT
BEGIN:VTIMEZONE
TZID:Europe/Warsaw
X-LIC-LOCATION:Europe/Warsaw
BEGIN:STANDARD
DTSTART:20191027T020000
TZOFFSETFROM:+0200
TZOFFSETTO:+0100
TZNAME:CET
END:STANDARD
END:VTIMEZONE
END:VCALENDAR