BEGIN:VCALENDAR
VERSION:2.0
PRODID:-//wp-events-plugin.com//7.2.3.1//EN
TZID:Europe/Warsaw
X-WR-TIMEZONE:Europe/Warsaw
BEGIN:VEVENT
UID:35864@night4u.pl
DTSTART;TZID=Europe/Warsaw:20191130T220000
DTEND;TZID=Europe/Warsaw:20191201T043000
DTSTAMP:20191129T103556Z
URL:https://night4u.pl/wydarzenia/disco-andrzejki-2019/
SUMMARY:Disco Andrzejki 2019
DESCRIPTION:Tak 🎼 Zapraszamy na Andrzejki 2019 🎺 Zachęcamy do skład
 ania rezerwacji na topowy termin w roku. \n\nPrzygotujcie się na mocne ud
 erzenie w rytmie disco\, hitów lat 70.\,80 i 90.\, nie zabraknie równie
 ż współczesnych\, tanecznych kawałków. Zostań Królem parkietu wspó
 lnie z Nami w najbardziej wyluzowanym lokalu w mieście. Daj się porwać 
 zabawie w przystępnej cenie.  \n\nOficjalny partner: Radio Złote Przeboj
 e\n\nSOBOTY/SATURDAYS\ngodz. 22.00\n\nCENNIK WSTĘPU:\n👠 Panie i 🎩 P
 anowie - 20 zł/os.\n\n☎ telefoniczna rezerwacje loży i stolików - 795
  58 88 44\n\n✅ rezerwacje są bezpłatne - minimalne zamówienie u kelne
 rki dla stolików to 100\,00 PLN\, dla loży w soboty to 200\,00 PLN. Zach
 ęcamy do składania rezerwacji z wyprzedzeniem. \n\n*polecamy naszą kuch
 nię ! zamówienia: info@discoszczecin.pl\n\nKlimat muzyczny w skrócie :)
  od Dr Robo\nhttp://bit.ly/2pwITba\n------------------\nDEPTAK BOGUSŁAWA\
 n/Byłe B-52/\nul. Ks. Bogusława X 8/1\n70-440 Szczecin
ATTACH;FMTTYPE=image/jpeg:https://night4u.pl/wp-content/uploads/2019/11/95
 415_image_70232283_2477749125627556_3707553226040541184_o.jpg
CATEGORIES:zachodniopomorskie
LOCATION:Disco na Deptaku\, ul. Ks. Bogusława X 8/1\, Szczecin\, 70-440\, 
 Poland
GEO:53.429722;14.543838
X-APPLE-STRUCTURED-LOCATION;VALUE=URI;X-ADDRESS=ul. Ks. Bogusława X 8/1\, 
 Szczecin\, 70-440\, Poland;X-APPLE-RADIUS=100;X-TITLE=Disco na Deptaku:geo
 :53.429722,14.543838
END:VEVENT
BEGIN:VTIMEZONE
TZID:Europe/Warsaw
X-LIC-LOCATION:Europe/Warsaw
BEGIN:STANDARD
DTSTART:20191027T020000
TZOFFSETFROM:+0200
TZOFFSETTO:+0100
TZNAME:CET
END:STANDARD
END:VTIMEZONE
END:VCALENDAR