BEGIN:VCALENDAR
VERSION:2.0
PRODID:-//wp-events-plugin.com//7.2.3.1//EN
TZID:Europe/Warsaw
X-WR-TIMEZONE:Europe/Warsaw
BEGIN:VEVENT
UID:48818@night4u.pl
DTSTART;TZID=Europe/Warsaw:20200307T220000
DTEND;TZID=Europe/Warsaw:20200308T043000
DTSTAMP:20200307T103528Z
URL:https://night4u.pl/wydarzenia/disco-dzien-kobiet-goraczka-sobotniej-no
 cy/
SUMMARY:Disco Dzień Kobiet - Gorączka Sobotniej Nocy!
DESCRIPTION:Świętujemy wspólnie Dzień Kobiet 2020. Niech żyje bal! - z
 apraszamy na sobotnie party w Disco na Deptaku. Nie siedź w domu\, bo dob
 ra impreza jest na wyciągnięcie ręki. \n\nPrzygotujcie się na mocne ud
 erzenie w rytmie disco\, hitów lat 70.\,80 i 90.\, nie zabraknie równie
 ż współczesnych\, tanecznych kawałków. Zostań Królową lub Królem 
 parkietu wspólnie z Nami w najbardziej wyluzowanym lokalu w mieście. Daj
  się porwać zabawie w przystępnej cenie.  \n\nOficjalny partner klubu -
  Radio Złote Przeboje\n\nSOBOTY/SATURDAYS\ngodz. 22.00\n\nCENNIK WSTĘPU:
 \n👠 Panie - 10 zł\n🎩 Panowie - 15 zł \n\n☎ telefoniczna rezerwac
 je loży i stolików:\n+ 48 795 58 88 44\n\n✅ rezerwacje są bezpłatne 
 - minimalne zamówienie u kelnerki dla stolików to 100\,00 PLN\, dla loż
 y to 200\,00 PLN. Zachęcamy do składania rezerwacji z tygodniowym wyprze
 dzeniem. \n\n*polecamy również naszą kuchnię! \nZamówienia prosimy ki
 erować na adres e-mail: info@discoszczecin.pl lub telefonicznie\n\nKlimat
  muzyczny (w skrócie) od naszego rezydenta Dr Robo\nhttp://bit.ly/2pwITba
 \n\nNasze oznaczenia: #Szczecin #DiscoSzczecin #DiscoNaDeptaku\n----------
 --------\nDEPTAK BOGUSŁAWA\n/Byłe B-52\, obok Grey Clubu/\nul. Ks. Bogus
 ława X 8/1\n70-440 Szczecin
ATTACH;FMTTYPE=image/jpeg:https://night4u.pl/wp-content/uploads/2020/02/16
 7004_image_87089557_2716433911759075_8762800797961420800_o.jpg
CATEGORIES:zachodniopomorskie
LOCATION:Disco na Deptaku\, ul. Ks. Bogusława X 8/1\, Szczecin\, 70-440\, 
 Poland
GEO:53.429722;14.543838
X-APPLE-STRUCTURED-LOCATION;VALUE=URI;X-ADDRESS=ul. Ks. Bogusława X 8/1\, 
 Szczecin\, 70-440\, Poland;X-APPLE-RADIUS=100;X-TITLE=Disco na Deptaku:geo
 :53.429722,14.543838
END:VEVENT
BEGIN:VTIMEZONE
TZID:Europe/Warsaw
X-LIC-LOCATION:Europe/Warsaw
BEGIN:STANDARD
DTSTART:20191027T020000
TZOFFSETFROM:+0200
TZOFFSETTO:+0100
TZNAME:CET
END:STANDARD
END:VTIMEZONE
END:VCALENDAR