BEGIN:VCALENDAR
VERSION:2.0
PRODID:-//wp-events-plugin.com//7.2.3.1//EN
TZID:Europe/Warsaw
X-WR-TIMEZONE:Europe/Warsaw
BEGIN:VEVENT
UID:33286@night4u.pl
DTSTART;TZID=Europe/Warsaw:20191026T220000
DTEND;TZID=Europe/Warsaw:20191027T040000
DTSTAMP:20250901T211137Z
URL:https://night4u.pl/wydarzenia/disco-fever-dj-kido-dj-baff-p29/
SUMMARY:Disco Fever / DJ Kido &amp\; DJ Baff / P29
DESCRIPTION:📀📀📀 Disco Fever  📀📀📀\n\nMamy zaszczyt zaprosi
 ć Was na gorączkę sobotniej nocy w klimacie Disco! Przeniesiemy się do
  lat 70tych do jednego z Nowojorskich klubów! Przygotujcie swoje outfity 
 adekwatne do sytuacji i widzimy się w P29.\n\nDJs:\n▪️Kido \n▪️Ba
 ff \n\nP29\nPiotrkowska 29\n(wejście od ul. Więckowskiego)\nSobota 26 Pa
 ździernik 2019\nStart 22:00\nTax: 10PLN\n\nPeace\, Unity\, Love Disco &am
 p\; Having Fun!
ATTACH;FMTTYPE=image/jpeg:https://night4u.pl/wp-content/uploads/2019/10/82
 431_image_72541416_2388322407951041_8456535712399884288_n.jpg
CATEGORIES:łódzkie
LOCATION:P29\, Piotrkowska 29\, Łódź\, 90-410\, Poland
GEO:51.772549;19.455285
X-APPLE-STRUCTURED-LOCATION;VALUE=URI;X-ADDRESS=Piotrkowska 29\, Łódź\, 
 90-410\, Poland;X-APPLE-RADIUS=100;X-TITLE=P29:geo:51.772549,19.455285
END:VEVENT
BEGIN:VTIMEZONE
TZID:Europe/Warsaw
X-LIC-LOCATION:Europe/Warsaw
BEGIN:DAYLIGHT
DTSTART:20190331T030000
TZOFFSETFROM:+0100
TZOFFSETTO:+0200
TZNAME:CEST
END:DAYLIGHT
BEGIN:STANDARD
DTSTART:20191027T020000
TZOFFSETFROM:+0200
TZOFFSETTO:+0100
TZNAME:CET
END:STANDARD
END:VTIMEZONE
END:VCALENDAR