BEGIN:VCALENDAR
VERSION:2.0
PRODID:-//wp-events-plugin.com//7.2.3.1//EN
TZID:Europe/Warsaw
X-WR-TIMEZONE:Europe/Warsaw
BEGIN:VEVENT
UID:41364@night4u.pl
DTSTART;TZID=Europe/Warsaw:20200111T200000
DTEND;TZID=Europe/Warsaw:20200112T040000
DTSTAMP:20200111T205458Z
URL:https://night4u.pl/wydarzenia/disco-marek-11-01-2020-klub-sydney/
SUMMARY:Disco Marek 11.01.2020 Klub Sydney
DESCRIPTION:🔥🔥🔥DISCO MAREK - Sobota 11go Stycznia 2020r. 🔥🔥
 🔥\n\nTego artysty  nie trzeba  przedstawiać - 1MLN followersów na Ins
 ta robi swoje!!!\nJuż 11 stycznia  Disco Marek- artysta\, youtuber \, kt
 óry ma na swoim koncie takie hity jak:” Zostań Moja Kotką” czy tez 
 ’’Kukurydza’’!!!\, na żywo w Klubie Sydney!!!\nSztos atrakcji  mu
 zycznych dostarczają Wam  nasi rezydenci\, szykujcie się będzie presti
 żowo \;)\nLine up:\nMain Stage:\n🔥DJ Ataberk - International EDM\, RNB
 \n🔥DJ Abberall - EDM\n🔥Yogidj _EDM\nDisco Stage :\n🔥DJ Nero - dis
 co music\n2 sale | 2 klimaty muzyczne - EDM/Rapsy I Disco Polo &amp\; Retr
 o Disco\nBILETY: 15PLN do godz. 22.00\, 20PLN po godz. 22.00\nREZERWACJE 
 ☎ 15 87 01 220 ☎\nDo zobaczenia w Klubie na parkietach 😍
ATTACH;FMTTYPE=image/jpeg:https://night4u.pl/wp-content/uploads/2020/01/12
 9796_image_80733557_2968863229810668_7780904624793321472_o.jpg
CATEGORIES:podkarpackie
LOCATION:Sydney Klub  Zarzecze\, Ul. Ługowa Boczna 11\, Zarzecze\, 37-400\
 , Poland
GEO:50.52818;22.184983
X-APPLE-STRUCTURED-LOCATION;VALUE=URI;X-ADDRESS=Ul. Ługowa Boczna 11\, Zar
 zecze\, 37-400\, Poland;X-APPLE-RADIUS=100;X-TITLE=Sydney Klub  Zarzecze:g
 eo:50.52818,22.184983
END:VEVENT
BEGIN:VTIMEZONE
TZID:Europe/Warsaw
X-LIC-LOCATION:Europe/Warsaw
BEGIN:STANDARD
DTSTART:20191027T020000
TZOFFSETFROM:+0200
TZOFFSETTO:+0100
TZNAME:CET
END:STANDARD
END:VTIMEZONE
END:VCALENDAR