BEGIN:VCALENDAR
VERSION:2.0
PRODID:-//wp-events-plugin.com//7.2.3.1//EN
TZID:Europe/Warsaw
X-WR-TIMEZONE:Europe/Warsaw
BEGIN:VEVENT
UID:49410@night4u.pl
DTSTART;TZID=Europe/Warsaw:20200313T210000
DTEND;TZID=Europe/Warsaw:20200314T050000
DTSTAMP:20200311T183906Z
URL:https://night4u.pl/wydarzenia/disco-night-piatek-13-03-club-80/
SUMMARY:Disco Night // Piątek 13.03 - Club 80
DESCRIPTION:DISCO NIGHT // Piątek 13.03 - Club 80\n \nChyba nikomu nie trz
 eba tłumaczyć\, że w piątki gramy najlepiej wyselekcjonowaną muzykę 
 #DISCO lat osiemdziesiątych\, a zadba o to nasz najlepszy rezydent DJ SIL
 VER GEE! 🤩\n \nDodatkowo na naszych barach czekać będą na Was specja
 lne promocje!🥃🍹🍸\n--\n🎧 Dolny poziom - DJ SILVER GEE\n--\nℹ 
 INFO\n\n➡ START: 🕘 21.00 | DOOR SELECTION\n\n➡ REZERWACJE\n⌨ http
 s://club80gliwice.superboss.pl/\n\n➡ REGULAMIN KLUBU\nhttps://bit.ly/2Aq
 oA65\n\n➡ POROZMAWIAJ ONLINE \nm.me/Club80.Gliwice\n--\nwww.club80.pl\nw
 ww.fb.com/Club80.Gliwice
ATTACH;FMTTYPE=image/jpeg:https://night4u.pl/wp-content/uploads/2020/03/17
 1057_image_88109771_2550613828380262_1361567141786025984_o.jpg
CATEGORIES:śląskie
LOCATION:Club 80 Gliwice\, Dubois 22\, Gliwice\, 44-100\, Poland
GEO:50.300203;18.672661
X-APPLE-STRUCTURED-LOCATION;VALUE=URI;X-ADDRESS=Dubois 22\, Gliwice\, 44-10
 0\, Poland;X-APPLE-RADIUS=100;X-TITLE=Club 80 Gliwice:geo:50.300203,18.672
 661
END:VEVENT
BEGIN:VTIMEZONE
TZID:Europe/Warsaw
X-LIC-LOCATION:Europe/Warsaw
BEGIN:STANDARD
DTSTART:20191027T020000
TZOFFSETFROM:+0200
TZOFFSETTO:+0100
TZNAME:CET
END:STANDARD
END:VTIMEZONE
END:VCALENDAR