BEGIN:VCALENDAR
VERSION:2.0
PRODID:-//wp-events-plugin.com//7.2.3.1//EN
TZID:Europe/Warsaw
X-WR-TIMEZONE:Europe/Warsaw
BEGIN:VEVENT
UID:21874@night4u.pl
DTSTART;TZID=Europe/Warsaw:20190727T200000
DTEND;TZID=Europe/Warsaw:20190728T040000
DTSTAMP:20190709T223838Z
URL:https://night4u.pl/wydarzenia/disco-night-x-dj-zbyszek-mechlik/
SUMMARY:Disco Night x Dj Zbyszek Mechlik
DESCRIPTION:Impreza w klimacie Disco\, na której zagramy same muzyczne hic
 iory królujące na listach przebojów w oryginalnych oraz zmiksowanych we
 rsjach! Na tej imprezie każdy znajdzie coś dla siebie więc szykuje się
  balet do białego rana! Imprezę nakręci Dj Zbyszek Mechlik!
ATTACH;FMTTYPE=image/jpeg:https://night4u.pl/wp-content/uploads/2019/07/51
 839_image_65875905_993194220883220_5745527603268157440_n.jpg
CATEGORIES:kujawsko-pomorskie
LOCATION:Dancing Gold\, Torun\, Poland
GEO:53.0108;18.606626
X-APPLE-STRUCTURED-LOCATION;VALUE=URI;X-ADDRESS=Torun\, Poland;X-APPLE-RADI
 US=100;X-TITLE=Dancing Gold:geo:53.0108,18.606626
END:VEVENT
BEGIN:VTIMEZONE
TZID:Europe/Warsaw
X-LIC-LOCATION:Europe/Warsaw
BEGIN:DAYLIGHT
DTSTART:20190331T030000
TZOFFSETFROM:+0100
TZOFFSETTO:+0200
TZNAME:CEST
END:DAYLIGHT
END:VTIMEZONE
END:VCALENDAR