BEGIN:VCALENDAR
VERSION:2.0
PRODID:-//wp-events-plugin.com//7.2.3.1//EN
TZID:Europe/Warsaw
X-WR-TIMEZONE:Europe/Warsaw
BEGIN:VEVENT
UID:31019@night4u.pl
DTSTART;TZID=Europe/Warsaw:20191018T210000
DTEND;TZID=Europe/Warsaw:20191019T050000
DTSTAMP:20191017T094445Z
URL:https://night4u.pl/wydarzenia/disco-polo-piatek-18-10-club-80-2/
SUMMARY:Disco Polo // Piątek 18.10 - Club 80
DESCRIPTION:DISCO POLO  // Piątek 18.10 - Club 80\n\nW piątek 18 paździe
 rnika zapraszamy na najlepszą imprezę DISCO POLO! 😈 Zagramy dla Was k
 awałki 🎶 przy których będziecie wspaniale bawić się na naszym park
 iecie. Nie zabraknie także zagranicznych hitów z minionych lat. \n\nClub
  80 to gwarancja udanej zabawy przez całą noc! \n   \nWidzimy się na pa
 rkiecie o 21! 😘\n--\n🎧 Dolny poziom - CIHY\n--\nℹ INFO\n\n➡ STAR
 T: 🕘 21.00 | DOOR SELECTION\n\n➡ REZERWACJE\n📲 https://club80siemi
 anowice.superboss.pl/\n\n➡ REGULAMIN KLUBU\nhttps://bit.ly/2AqoA65\n\n
 ➡ POROZMAWIAJ ONLINE \nm.me/Club80Premium\n\n➡ WSTĘP\nPANIE - 5zł\nP
 ANOWIE - 10zł\n--\nwww.club80.pl\nwww.fb.com/Club80Premium
ATTACH;FMTTYPE=image/jpeg:https://night4u.pl/wp-content/uploads/2019/10/71
 948_image_71515176_3175772369161530_7387449650128617472_o.jpg
CATEGORIES:śląskie
LOCATION:Club 80 Siemianowice Śląskie\, Olimpijska 15\, Siemianowice Slas
 kie\, 41-100\, Poland
GEO:50.304733;19.017948
X-APPLE-STRUCTURED-LOCATION;VALUE=URI;X-ADDRESS=Olimpijska 15\, Siemianowic
 e Slaskie\, 41-100\, Poland;X-APPLE-RADIUS=100;X-TITLE=Club 80 Siemianowic
 e Śląskie:geo:50.304733,19.017948
END:VEVENT
BEGIN:VTIMEZONE
TZID:Europe/Warsaw
X-LIC-LOCATION:Europe/Warsaw
BEGIN:DAYLIGHT
DTSTART:20190331T030000
TZOFFSETFROM:+0100
TZOFFSETTO:+0200
TZNAME:CEST
END:DAYLIGHT
END:VTIMEZONE
END:VCALENDAR