BEGIN:VCALENDAR
VERSION:2.0
PRODID:-//wp-events-plugin.com//7.2.3.1//EN
TZID:Europe/Warsaw
X-WR-TIMEZONE:Europe/Warsaw
BEGIN:VEVENT
UID:41899@night4u.pl
DTSTART;TZID=Europe/Warsaw:20200119T210000
DTEND;TZID=Europe/Warsaw:20200120T050000
DTSTAMP:20200331T191258Z
URL:https://night4u.pl/wydarzenia/disco-ponad-wszystko-koncert-zespolu-top
 -girls-2/
SUMMARY:DISCO Ponad Wszystko! / Koncert Zespołu TOP GIRLS
DESCRIPTION:Myśleliśmy jak stworzyć idealną niedzielną imprezę z disc
 o polo.\nWiedzieliśmy\, że składową musi być solidny bar który ugasi
  pragnienie gości (znacie naszą ekipę więc znacie również ich wysok
 ą wartość procentowa)\, dobre piosenki\, piękne kobiety i dobra zabawa
  naszych gości.\n\nO Was nie musimy się martwić\, potraficie bawić si
 ę jak nikt inny. A odnośnie kobiet i dobrego disco...postanowiliśmy zap
 rosić zespół TOP GIRLS żeby specjalnie dla Was zagrały koncert ze swo
 imi największymi hitami!\n\nCo myślicie o takiej imprezie w SilenceClub?
  \;)\n________________________________________________\nStart 21:00\nKlub 
 zastrzega sobie prawo do selekcji gości +18.\n___________________________
 _____________________\n\nW ofercie dla Was tego wieczora mamy:\nWjazd na i
 mprezę z listy facebook'a za darmo dla wszystkich którzy zjawią się do
  godziny 22:00 / \nPo 22:00 i spoza listy 10/15 zł\nListę zamykamy o 20!
 \n\nKliknij "wezmę udział" bo "zainteresowaną/ym" to można być co naj
 wyżej kolejną kolejką przy barze.\nKoncert zespołu TOP GIRLS a przed i
  po nim zagra DJ Młodziak!\n_____________________________________________
 ___\n\nZnajdź nas również na:\nSnapchat: silence_club || Instagram: @si
 lenceclub\n\n\n19.01.2020 /niedziela/ \nSilenceClub\nRadziszewskiego 8\nLu
 blin
ATTACH;FMTTYPE=image/jpeg:https://night4u.pl/wp-content/uploads/2020/01/13
 2058_image_81638098_3647135671978082_2166802552631328768_o.jpg
CATEGORIES:lubelskie
LOCATION:SilenceClub\, Radziszewskiego 8\, Lublin\, 20-031\, Poland
GEO:51.246457;22.543797
X-APPLE-STRUCTURED-LOCATION;VALUE=URI;X-ADDRESS=Radziszewskiego 8\, Lublin\
 , 20-031\, Poland;X-APPLE-RADIUS=100;X-TITLE=SilenceClub:geo:51.246457,22.
 543797
END:VEVENT
BEGIN:VTIMEZONE
TZID:Europe/Warsaw
X-LIC-LOCATION:Europe/Warsaw
BEGIN:STANDARD
DTSTART:20191027T020000
TZOFFSETFROM:+0200
TZOFFSETTO:+0100
TZNAME:CET
END:STANDARD
END:VTIMEZONE
END:VCALENDAR