BEGIN:VCALENDAR
VERSION:2.0
PRODID:-//wp-events-plugin.com//7.2.3.1//EN
TZID:Europe/Warsaw
X-WR-TIMEZONE:Europe/Warsaw
BEGIN:VEVENT
UID:21882@night4u.pl
DTSTART;TZID=Europe/Warsaw:20190713T200000
DTEND;TZID=Europe/Warsaw:20190714T040000
DTSTAMP:20190709T223855Z
URL:https://night4u.pl/wydarzenia/disco-weekend-fiesta-latina-impreza-na-2
 -pietra/
SUMMARY:Disco Weekend / Fiesta Latina / impreza na 2 piętra
DESCRIPTION:Impreza na dwa piętra.\nDisco Weekend w klubie Kancelaria.\nBa
 w się przy hitach lat 80’90’00’ oraz najnowszych przebojach radiowy
 ch. \nJedyny klub w Bydgoszczy dla osób 30+ \nZagra Dj MiHow\n\nDodatkowo
  w tym terminie w sąsiadującej kawiarni Cafe Kino odbędzie się impreza
  w klimacie latino.\nZagra Dj TropiX\n\nRezerwacje: 535293293 \nul. Przesm
 yk 1\, Bydgoszcz\nPrzekonaj się\, że u nas życie zaczyna się po trzydz
 iestce!!!
ATTACH;FMTTYPE=image/jpeg:https://night4u.pl/wp-content/uploads/2019/07/51
 855_image_66486175_2349971211755464_2559133633138917376_n.jpg
CATEGORIES:kujawsko-pomorskie
LOCATION:Klub Kancelaria\, ul. Przesmyk 1\, Bydgoszcz\, 85-034\, Poland
GEO:53.120884;17.99911
X-APPLE-STRUCTURED-LOCATION;VALUE=URI;X-ADDRESS=ul. Przesmyk 1\, Bydgoszcz\
 , 85-034\, Poland;X-APPLE-RADIUS=100;X-TITLE=Klub Kancelaria:geo:53.120884
 ,17.99911
END:VEVENT
BEGIN:VTIMEZONE
TZID:Europe/Warsaw
X-LIC-LOCATION:Europe/Warsaw
BEGIN:DAYLIGHT
DTSTART:20190331T030000
TZOFFSETFROM:+0100
TZOFFSETTO:+0200
TZNAME:CEST
END:DAYLIGHT
END:VTIMEZONE
END:VCALENDAR