BEGIN:VCALENDAR
VERSION:2.0
PRODID:-//wp-events-plugin.com//7.2.3.1//EN
TZID:Europe/Warsaw
X-WR-TIMEZONE:Europe/Warsaw
BEGIN:VEVENT
UID:37797@night4u.pl
DTSTART;TZID=Europe/Warsaw:20191207T220000
DTEND;TZID=Europe/Warsaw:20191208T050000
DTSTAMP:20200401T082106Z
URL:https://night4u.pl/wydarzenia/discoteka-vol-1/
SUMMARY:DISCOteka vol.1
DESCRIPTION:Daj się ponieść szalonym rytmom DISCO. \nTa noc upłynie pod
  znakiem konfetti\, kuli dyskotekowej oraz sentymentalnych hitów lat sied
 emdziesiątych. \nSkuś się na słodycz kolorowych drinków i pokochaj wy
 jątkowy klimat DISCOteki! \nNiech uwiodą Cię rytmy najlepszych DJów i 
 razem z nami spraw\, by ta noc była magiczna.\n\nDISCO: Tony Handle\, Rik
 o\nRnB: 6:45 by Maqoo\n\nREZERWACJE:\nOliwia 511215860\nhttp://bit.ly/1NsN
 ghc\n\nStart: 22.00\nwstęp:20-25 pln\nkarty klubowe wejście FREE\,\nlist
 a FB* do 23.00 wejście FREE \nwstęp od 21 lat\nselekcja\npokolenie 30+ w
 stęp macie za free - szanujemy doświadczenie imprezowe\, tak więc poka
 żcie jak to się robi - zapraszamy!\n\n*wejście do klubu na listę fb je
 st jednorazowe w ciągu danej imprezy\, ponowny wstęp wiąże się z opł
 atą za wejście\, listę zamykamy o 21
ATTACH;FMTTYPE=image/jpeg:https://night4u.pl/wp-content/uploads/2019/11/10
 6399_image_78314846_3165294160154322_2559060360996847616_o.jpg
CATEGORIES:wielkopolskie
LOCATION:Klub Czekolada Poznań\, Poznan\, Poland
GEO:52.40609;16.93264
X-APPLE-STRUCTURED-LOCATION;VALUE=URI;X-ADDRESS=Poznan\, Poland;X-APPLE-RAD
 IUS=100;X-TITLE=Klub Czekolada Poznań:geo:52.40609,16.93264
END:VEVENT
BEGIN:VTIMEZONE
TZID:Europe/Warsaw
X-LIC-LOCATION:Europe/Warsaw
BEGIN:STANDARD
DTSTART:20191027T020000
TZOFFSETFROM:+0200
TZOFFSETTO:+0100
TZNAME:CET
END:STANDARD
END:VTIMEZONE
END:VCALENDAR