BEGIN:VCALENDAR
VERSION:2.0
PRODID:-//wp-events-plugin.com//7.2.3.1//EN
TZID:Europe/Warsaw
X-WR-TIMEZONE:Europe/Warsaw
BEGIN:VEVENT
UID:42388@night4u.pl
DTSTART;TZID=Europe/Warsaw:20200109T220000
DTEND;TZID=Europe/Warsaw:20200110T040000
DTSTAMP:20200331T202207Z
URL:https://night4u.pl/wydarzenia/disko-na-kwadracie-studenci-wstep-wolny/
SUMMARY:DISKO na Kwadracie - studenci wstęp wolny
DESCRIPTION:Zapraszamy na pierwszą imprezę w 2020 roku! \n\nDISKO na Kwad
 racie (wcześniej DISKO SZTOSY)  to najbardziej taneczne imprezy w Gdańsk
 u. Jeżeli lubisz pobawić się w klimacie balu czy wesela to ta impreza j
 est właśnie dla Ciebie. \n\nW każdy czwartek studenci wchodzą ZA DARMO
 ! \n\nDj Goskee - rozkręci każdą osobę w polskich rytmach. Zna najbard
 ziej taneczne numery i nie zawaha się ich użyć. Tego wieczoru na górne
 j sali zapanują przeboje\, których tekst zna cała Polska! \n\nPoczątek
  imprezy: 22:00 \n\nWstęp:\n-Studenci FREE (wszystkich uczelni na świeci
 e) (za okazaniem ważnej legitymacji studenckiej)\n-Pozostali: 10 zł\n-Li
 sta FB do 23:00* wchodzi za darmo (wystarczy kliknąć "wezmę udział" w 
 wydarzeniu)\n*Listę fb zamykamy w dniu imprezy o 21:00 \n\nRezerwacje ló
 ż: \n- w czwartki rezerwacje są darmowe!\n- loże należy odbierać do g
 odziny 23:00.\n- zgłoszenie na mail: tomasz.toloczko@pg.edu.pl \n\nWstęp
  na imprezę mają wyłącznie osoby pełnoletnie po okazaniu legitymacji 
 studenckiej lub dowodu tożsamości ze zdjęciem.
ATTACH;FMTTYPE=image/jpeg:https://night4u.pl/wp-content/uploads/2020/01/13
 3416_image_80973928_2611209915593451_4987679253794390016_o.jpg
CATEGORIES:pomorskie
LOCATION:AK PG Kwadratowa\, Siedlicka 4\, Gdansk\, 80-222\, Poland
GEO:54.3708;18.61536
X-APPLE-STRUCTURED-LOCATION;VALUE=URI;X-ADDRESS=Siedlicka 4\, Gdansk\, 80-2
 22\, Poland;X-APPLE-RADIUS=100;X-TITLE=AK PG Kwadratowa:geo:54.3708,18.615
 36
END:VEVENT
BEGIN:VTIMEZONE
TZID:Europe/Warsaw
X-LIC-LOCATION:Europe/Warsaw
BEGIN:STANDARD
DTSTART:20191027T020000
TZOFFSETFROM:+0200
TZOFFSETTO:+0100
TZNAME:CET
END:STANDARD
END:VTIMEZONE
END:VCALENDAR