BEGIN:VCALENDAR
VERSION:2.0
PRODID:-//wp-events-plugin.com//7.2.3.1//EN
TZID:Europe/Warsaw
X-WR-TIMEZONE:Europe/Warsaw
BEGIN:VEVENT
UID:18181@night4u.pl
DTSTART;TZID=Europe/Warsaw:20190615T220000
DTEND;TZID=Europe/Warsaw:20190615T220000
DTSTAMP:20190603T203721Z
URL:https://night4u.pl/wydarzenia/diva-night-vol-3-fetish-dj-alex-inc/
SUMMARY:Diva Night vol.3 Fetish/ Dj Alex INC
DESCRIPTION:Meine Damen und Herren! Ladies and Gentelmen!\n\nZ przyjemnośc
 ią zapraszamy Was na trzecią edycję Diva Night w klubie Punto. Tym raze
 m Diwy i Mistrzynie Ceremonii zaprezentują swoje 50 twarzy i zdominują W
 aszą wyobraźnię. Przybądźcie z otwartymi głowami i pod osłoną nocy
  zanurzcie się wraz z nimi w świat nieoczywistych fantazji. Lateks czy s
 zpilki? Co ukażą Wam Królowe? Czeka Was wieczór pełen niespodzianek s
 pod znaku Fetish. \n\nShow przygotują dla Was Christina Corpse\, Antina C
 hrist\, Mariolkaa Rebell i gościni specjalna – Lola Eyeonyou Potocki. \
 n\nWieczór poprowadzi …..\n\nPamiętajcie\, jeśli okażecie Waszym Diw
 om należyty szacunek\, będą dla Was łaskawe. \n  \n\n15.06.2019 | star
 t 22:00 | wjazd 10zł | afterparty: DJ Alex INC
ATTACH;FMTTYPE=image/jpeg:https://night4u.pl/wp-content/uploads/2019/06/43
 976_image_61659638_421333998447279_5208382672354672640_n.jpg
CATEGORIES:wielkopolskie
END:VEVENT
BEGIN:VTIMEZONE
TZID:Europe/Warsaw
X-LIC-LOCATION:Europe/Warsaw
BEGIN:DAYLIGHT
DTSTART:20190331T030000
TZOFFSETFROM:+0100
TZOFFSETTO:+0200
TZNAME:CEST
END:DAYLIGHT
END:VTIMEZONE
END:VCALENDAR