BEGIN:VCALENDAR
VERSION:2.0
PRODID:-//wp-events-plugin.com//7.2.3.1//EN
TZID:Europe/Warsaw
X-WR-TIMEZONE:Europe/Warsaw
BEGIN:VEVENT
UID:27841@night4u.pl
DTSTART;TZID=Europe/Warsaw:20190921T210000
DTEND;TZID=Europe/Warsaw:20190922T060000
DTSTAMP:20190916T211421Z
URL:https://night4u.pl/wydarzenia/divine-night-xdemon-zielona-gora-2/
SUMMARY:Divine Night // Xdemon Zielona Góra
DESCRIPTION:Ambasador najlepszych imprez w lubuskim – Klub X-Demon zapras
 za na sobotnie potęgowanie wrażeń i emocji ! Myślisz weekend – mówi
 sz X-Demon.\n\nDj's:\nMr Basic\nDJ B WHITE\nQube Dee\nDJ TomSter\n\nNie mo
 żesz tego przegapić ! Dołącz do wydarzenia już dziś!\n\n☎ Rezerwac
 je ONLINE http://bit.ly/1RtF806\n INFO: 6797 407 885 ☎\n\nNie zapomnij o
  kuszących promocjach w klubie X-DEMON:\n\nPROMOCJA URODZINOWA\nPROMOCJA 
 NA WIECZÓR PANIEŃSKI \n\nOBSERWUJ NAS:\nwww.xdemon.pl\nwww.facebook.com/
 XDemon\nwww.instagram.com/xdemonzielonagora\nsnapchat: xdemonzg\n\nTylko w
  X-Demonie najlepsza impreza nie jest przypadkiem a regułą!
ATTACH;FMTTYPE=image/jpeg:https://night4u.pl/wp-content/uploads/2019/09/64
 718_image_70907124_3470494446297648_4237991737320013824_o.jpg
CATEGORIES:lubuskie
LOCATION:X-Demon - Zielona Góra\, \, 
X-APPLE-STRUCTURED-LOCATION;VALUE=URI;X-ADDRESS=\, ;X-APPLE-RADIUS=100;X-TI
 TLE=X-Demon - Zielona Góra:geo:0,0
END:VEVENT
BEGIN:VTIMEZONE
TZID:Europe/Warsaw
X-LIC-LOCATION:Europe/Warsaw
BEGIN:DAYLIGHT
DTSTART:20190331T030000
TZOFFSETFROM:+0100
TZOFFSETTO:+0200
TZNAME:CEST
END:DAYLIGHT
END:VTIMEZONE
END:VCALENDAR