BEGIN:VCALENDAR
VERSION:2.0
PRODID:-//wp-events-plugin.com//7.2.3.1//EN
TZID:Europe/Warsaw
X-WR-TIMEZONE:Europe/Warsaw
BEGIN:VEVENT
UID:24448@night4u.pl
DTSTART;TZID=Europe/Warsaw:20190823T200000
DTEND;TZID=Europe/Warsaw:20190824T050000
DTSTAMP:20190809T215300Z
URL:https://night4u.pl/wydarzenia/dj-diabllo-twenty-club-bydgoszcz/
SUMMARY:DJ Diabllo // Twenty Club Bydgoszcz
DESCRIPTION:Już niebawem w samym sercu Bydgoszczy zawita DJ DIABLLO aka CO
 ORBY  od lat związany z największym Festiwalem w Europie Środkowej Sunr
 ise Festival! ?\nArtysta charakteryzujący się pełnym profesjonalizmem\,
  oraz nietuzinkową osobowością ?\n\n\nImprezę nakręci rezydent klubu 
 DJ S-CUE\nGość wieczoru DJ DIABLLO \n\nWstęp: \n✮ 10 PLN  po 22:00 15
  PLN \n\n Rezerwacje:\n➡Telefonicznie: 887 688 886\n➡Online: www.bit.l
 y/twentyclub\n\nBAR PROMO:\n➡ Wódka 0\,5l + 1l napoju za 50zł (do godz
  22)\n➡ Whisky 0\,7l + 1l Pepsi za 100zł (przez całą noc)\n \n\n\n✮
 ✮✮ Patroni Medialni ✮✮✮\n◾Radio Eska\n◾Tanio w mieście - By
 dgoszcz\n◾Info Bydgoszcz\n◾Klubowa Bydgoszcz
ATTACH;FMTTYPE=image/jpeg:https://night4u.pl/wp-content/uploads/2019/08/57
 545_image_67475516_2352111728340797_4124410511133507584_o.jpg
CATEGORIES:kujawsko-pomorskie
LOCATION:Twenty Club &amp\; Garden\, Stary Rynek 20\, Bydgoszcz\, 85-530\, 
 Poland
GEO:53.121635;18.000337
X-APPLE-STRUCTURED-LOCATION;VALUE=URI;X-ADDRESS=Stary Rynek 20\, Bydgoszcz\
 , 85-530\, Poland;X-APPLE-RADIUS=100;X-TITLE=Twenty Club & Garden:geo:53.1
 21635,18.000337
END:VEVENT
BEGIN:VTIMEZONE
TZID:Europe/Warsaw
X-LIC-LOCATION:Europe/Warsaw
BEGIN:DAYLIGHT
DTSTART:20190331T030000
TZOFFSETFROM:+0100
TZOFFSETTO:+0200
TZNAME:CEST
END:DAYLIGHT
END:VTIMEZONE
END:VCALENDAR