BEGIN:VCALENDAR
VERSION:2.0
PRODID:-//wp-events-plugin.com//7.2.3.1//EN
TZID:Europe/Warsaw
X-WR-TIMEZONE:Europe/Warsaw
BEGIN:VEVENT
UID:21596@night4u.pl
DTSTART;TZID=Europe/Warsaw:20190727T220000
DTEND;TZID=Europe/Warsaw:20190728T040000
DTSTAMP:20190705T152214Z
URL:https://night4u.pl/wydarzenia/dj-dred-lambert-handle-w-scenie54-27-07/
SUMMARY:DJ Dred + Lambert & Handle w Scenie54 (27.07)
DESCRIPTION:-- For english scroll down --\n\nW ostatnią sobotę lipca weź
  znajomych do Sceny54 przy Dolnych Młynów 10! Dlaczego? Bo zagra wtedy D
 J DRED\, który nie raz już udowodnił\, że potrafi rozkręcić imprezę
  w taki sposób\, że nawet się nie obejrzycie\, jak zacznie świtać \;)
  ? #naScenie pojawi się wtedy także duet DJ’ski Lambert & Handle\, kt
 óry nieprzerwanie od 2016 r. podbijają parkiety najlepszych polskich klu
 bów.\n\nStart: 22:00\nRezerwacja miejsc:\n?scena54@scandale.pl\n\nOn the 
 last Saturday of July take your friends to Scena54 at Dolnych Młynów 10!
  Why? Because DJ Dred will play then - he proved more than once that he's 
 able to move the party in a way that you won't even notice when it starts 
 to dawn. \;) ? #ontheStage we'll also have the DJ duo Lambert & Handle wil
 l also appear on the stage then - they are conquering the dance floors of 
 the best Polish clubs since 2016.\n\nStart: 10PM\nBookings:\n? scena54@sca
 ndale.pl\n\nJoin us!
ATTACH;FMTTYPE=image/jpeg:https://night4u.pl/wp-content/uploads/2019/07/51
 375_image_65672549_644731596003432_9112067602896650240_o.jpg
CATEGORIES:małopolskie
LOCATION:Scena54 - Kraków\, ul. Dolnych Młynów 10\, Kraków\, 31-124\, P
 oland
GEO:50.064736;19.926662
X-APPLE-STRUCTURED-LOCATION;VALUE=URI;X-ADDRESS=ul. Dolnych Młynów 10\, K
 raków\, 31-124\, Poland;X-APPLE-RADIUS=100;X-TITLE=Scena54 - Kraków:geo:
 50.064736,19.926662
END:VEVENT
BEGIN:VTIMEZONE
TZID:Europe/Warsaw
X-LIC-LOCATION:Europe/Warsaw
BEGIN:DAYLIGHT
DTSTART:20190331T030000
TZOFFSETFROM:+0100
TZOFFSETTO:+0200
TZNAME:CEST
END:DAYLIGHT
END:VTIMEZONE
END:VCALENDAR