BEGIN:VCALENDAR
VERSION:2.0
PRODID:-//wp-events-plugin.com//7.2.3.1//EN
TZID:Europe/Warsaw
X-WR-TIMEZONE:Europe/Warsaw
BEGIN:VEVENT
UID:24475@night4u.pl
DTSTART;TZID=Europe/Warsaw:20190816T220000
DTEND;TZID=Europe/Warsaw:20190816T220000
DTSTAMP:20190809T215503Z
URL:https://night4u.pl/wydarzenia/dj-hazel-w-alibi%e2%80%a2party-club%e2%8
 0%a2-16-08-2019/
SUMMARY:Dj HAZEL w Alibi•Party Club• 16.08.2019
DESCRIPTION:Już 16 sierpnia to na co wszyscy czekali czyli „ Największa
  bania w Polsce”. Dj HAZEL „ najszybsze ręce Europy” kto Pamięta m
 anieczki !? Kto chce cofnąć się w czasie i przeżyć najlepszą imprez
 ę w swoim życiu !? Nie może Cię zabraknąć ! \n\n•Bilety dostępne 
 w naszym klubie \n•Rezerwacje 577-578-057
ATTACH;FMTTYPE=image/jpeg:https://night4u.pl/wp-content/uploads/2019/08/57
 603_image_67718144_2921805114500340_5726208857550618624_n.jpg
CATEGORIES:zachodniopomorskie
LOCATION:ALIBI • Party Club •\, Żeromskiego 1\, Swinoujscie\, 72-600\,
  Poland
GEO:53.91917;14.25242
X-APPLE-STRUCTURED-LOCATION;VALUE=URI;X-ADDRESS=Żeromskiego 1\, Swinoujsci
 e\, 72-600\, Poland;X-APPLE-RADIUS=100;X-TITLE=ALIBI • Party Club •:ge
 o:53.91917,14.25242
END:VEVENT
BEGIN:VTIMEZONE
TZID:Europe/Warsaw
X-LIC-LOCATION:Europe/Warsaw
BEGIN:DAYLIGHT
DTSTART:20190331T030000
TZOFFSETFROM:+0100
TZOFFSETTO:+0200
TZNAME:CEST
END:DAYLIGHT
END:VTIMEZONE
END:VCALENDAR