BEGIN:VCALENDAR
VERSION:2.0
PRODID:-//wp-events-plugin.com//7.2.3.1//EN
TZID:Europe/Warsaw
X-WR-TIMEZONE:Europe/Warsaw
BEGIN:VEVENT
UID:34841@night4u.pl
DTSTART;TZID=Europe/Warsaw:20191108T210000
DTEND;TZID=Europe/Warsaw:20191109T030000
DTSTAMP:20191107T083939Z
URL:https://night4u.pl/wydarzenia/dj-insane-sala-dance-lata-80-i-90-8-11/
SUMMARY:Dj Insane/ sala dance lata 80 i 90- 8.11
DESCRIPTION:W najbliższy piątek wystąpi Dj INSANE !\nSupport: DJ BRONEK\
 n\nNa sali dance HITS MIX czyli lata 80 i 90 !\nZa kosolą DJ YOOSHI !\n\n
 Dla 100 pierwszych osób MOJITO GRATIS !\n\nWstęp: 10 zł\, Panie wstęp 
 wolny\nStart 21\n\nW dniu imprezy wylosujemy trzy osoby które wygrają lo
 żę\, but. wódki\, napój i wejście dla 6 osób.\nWystarczy\, wykonać 
 3 proste kroki:\n- wziąć udział w wydarzeniu\n- zaprosić na nie min. 1
 00 osób\n- napisać w komentarzu ile osób zaprosiliście\n\nPowodzenia
ATTACH;FMTTYPE=image/jpeg:https://night4u.pl/wp-content/uploads/2019/11/91
 338_image_74209814_1600960870046874_7490928275716308992_o.jpg
CATEGORIES:mazowieckie
LOCATION:Explosion Club Radom\, ul. Wernera 10 ( róg Szarych Szeregów)\, 
 Radom\, 26-610\, Poland
GEO:51.409191;21.144698
X-APPLE-STRUCTURED-LOCATION;VALUE=URI;X-ADDRESS=ul. Wernera 10 ( róg Szary
 ch Szeregów)\, Radom\, 26-610\, Poland;X-APPLE-RADIUS=100;X-TITLE=Explosi
 on Club Radom:geo:51.409191,21.144698
END:VEVENT
BEGIN:VTIMEZONE
TZID:Europe/Warsaw
X-LIC-LOCATION:Europe/Warsaw
BEGIN:STANDARD
DTSTART:20191027T020000
TZOFFSETFROM:+0200
TZOFFSETTO:+0100
TZNAME:CET
END:STANDARD
END:VTIMEZONE
END:VCALENDAR