BEGIN:VCALENDAR
VERSION:2.0
PRODID:-//wp-events-plugin.com//7.2.3.1//EN
TZID:Europe/Warsaw
X-WR-TIMEZONE:Europe/Warsaw
BEGIN:VEVENT
UID:16839@night4u.pl
DTSTART;TZID=Europe/Warsaw:20190607T220000
DTEND;TZID=Europe/Warsaw:20190608T060000
DTSTAMP:20190521T133824Z
URL:https://night4u.pl/wydarzenia/dj-kuba-neitan-x-demon-wroclaw/
SUMMARY:Dj Kuba & Neitan // X-Demon Wrocław
DESCRIPTION:DJ KUBA & NEITAN\n\nPromocja 3 x 5 zł - wódka\, piwo i whisky
  do 24:00\nRezerwacja lóż www.wroclaw.xdemon.pl\nSelekcja +18
ATTACH;FMTTYPE=image/jpeg:https://night4u.pl/wp-content/uploads/2019/05/41
 270_image_60602593_1046195045565174_8428390241953382400_o.jpg
CATEGORIES:dolnośląskie
LOCATION:X-Demon - Wrocław\, \, 
X-APPLE-STRUCTURED-LOCATION;VALUE=URI;X-ADDRESS=\, ;X-APPLE-RADIUS=100;X-TI
 TLE=X-Demon - Wrocław:geo:0,0
END:VEVENT
BEGIN:VTIMEZONE
TZID:Europe/Warsaw
X-LIC-LOCATION:Europe/Warsaw
BEGIN:DAYLIGHT
DTSTART:20190331T030000
TZOFFSETFROM:+0100
TZOFFSETTO:+0200
TZNAME:CEST
END:DAYLIGHT
END:VTIMEZONE
END:VCALENDAR