BEGIN:VCALENDAR
VERSION:2.0
PRODID:-//wp-events-plugin.com//7.2.3.1//EN
TZID:Europe/Warsaw
X-WR-TIMEZONE:Europe/Warsaw
BEGIN:VEVENT
UID:20953@night4u.pl
DTSTART;TZID=Europe/Warsaw:20190712T210000
DTEND;TZID=Europe/Warsaw:20190713T060000
DTSTAMP:20190704T024427Z
URL:https://night4u.pl/wydarzenia/dj-kuba-neitan-xdemon-zielona-gora/
SUMMARY:Dj Kuba & Neitan // Xdemon Zielona Góra
DESCRIPTION:Kuba & Neitan - Jakub Wroński oraz Adrian Pastuszak\, pasjonac
 i muzyki elektronicznej\, dj’e\, producenci\, autorzy wielu produkcji\, 
 które podbiły klubowe parkiety na całym świecie.\n\nNie możesz tego p
 rzegapić ! Dołącz do wydarzenia już dziś!\n\n☎ Rezerwacje ONLINE ht
 tp://bit.ly/1RtF806\n INFO: 797 407 885 ☎\n\nNie zapomnij o kuszących p
 romocjach w klubie X-DEMON:\n\nPROMOCJA URODZINOWA\nPROMOCJA NA WIECZÓR P
 ANIEŃSKI \n\nOBSERWUJ NAS:\nwww.xdemon.pl\nwww.facebook.com/XDemon\nwww.i
 nstagram.com/xdemonzielonagora\nsnapchat: xdemonzg
ATTACH;FMTTYPE=image/jpeg:https://night4u.pl/wp-content/uploads/2019/07/50
 113_image_64281794_3260030007344094_5522984813423755264_o.jpg
CATEGORIES:lubuskie
LOCATION:X-Demon - Zielona Góra\, \, 
X-APPLE-STRUCTURED-LOCATION;VALUE=URI;X-ADDRESS=\, ;X-APPLE-RADIUS=100;X-TI
 TLE=X-Demon - Zielona Góra:geo:0,0
END:VEVENT
BEGIN:VTIMEZONE
TZID:Europe/Warsaw
X-LIC-LOCATION:Europe/Warsaw
BEGIN:DAYLIGHT
DTSTART:20190331T030000
TZOFFSETFROM:+0100
TZOFFSETTO:+0200
TZNAME:CEST
END:DAYLIGHT
END:VTIMEZONE
END:VCALENDAR