BEGIN:VCALENDAR
VERSION:2.0
PRODID:-//wp-events-plugin.com//7.2.3.1//EN
TZID:Europe/Warsaw
X-WR-TIMEZONE:Europe/Warsaw
BEGIN:VEVENT
UID:24418@night4u.pl
DTSTART;TZID=Europe/Warsaw:20190817T210000
DTEND;TZID=Europe/Warsaw:20190818T050000
DTSTAMP:20190809T215104Z
URL:https://night4u.pl/wydarzenia/dj-lobuz-sound-urodziny-krola-muzyki-dis
 co/
SUMMARY:Dj Łobuz Sound - Urodziny króla muzyki Disco!
DESCRIPTION:W sobotę 17 Sierpnia w naszym klubie EXTRA WYDARZENIE\n\nUrodz
 iny Króla muzyki DISCO\n♕♕♕ŁOBUZ SOUND♕♕♕\n\n✴✴✴✴✴
 ✴✴✴✴✴✴✴✴\n\nSTART: 21:00\n\nSZYKUJCIE SIĘ NA WIELKIE DISC
 O !!!\n\nObecność obowiązkowa!\n♕DYSKOTEKA WESELE♕\n✴✴✴✴✴
 ✴✴✴✴✴✴✴✴\nChcesz lożę? zadzwoń Tel.+48 791 998 805\nPRZ
 YJEDŹ DO KLUBU LIMUZYNĄ ZA DARMO: 793 687 997\n✴✴✴✴✴✴✴✴
 ✴✴✴✴✴\nInsta: DyskotekaWeseleŁeba\n✴✴✴✴✴✴✴✴✴
 ✴✴✴✴\n\n✴✴✴✴✴✴✴✴✴✴✴✴✴\n♕DYSKOTEKA WESE
 LE♕\nJesteśmy otwarci codziennie od 21 do RANA!\n\nPiątki i Soboty - P
 rawdziwe Wesele z Młodą Parą\, Zabawami Weselnymi\, Wiejskim Stolikiem!
  Podwozimy naszych gości limuzyną!\n\nul. Wojska Polskiego 20\nwww.dysko
 tekaleba.pl\nInformacje i Współpraca: Tel.+48 791 998 805
ATTACH;FMTTYPE=image/jpeg:https://night4u.pl/wp-content/uploads/2019/08/57
 473_image_67838029_2153000778332642_2452199543152836608_o.jpg
CATEGORIES:pomorskie
LOCATION:Dyskoteka Wesele Łeba\, Wojska Polskiego\, Łeba\, 84-360\, Polan
 d
GEO:54.762309;17.55529
X-APPLE-STRUCTURED-LOCATION;VALUE=URI;X-ADDRESS=Wojska Polskiego\, Łeba\, 
 84-360\, Poland;X-APPLE-RADIUS=100;X-TITLE=Dyskoteka Wesele Łeba:geo:54.7
 62309,17.55529
END:VEVENT
BEGIN:VTIMEZONE
TZID:Europe/Warsaw
X-LIC-LOCATION:Europe/Warsaw
BEGIN:DAYLIGHT
DTSTART:20190331T030000
TZOFFSETFROM:+0100
TZOFFSETTO:+0200
TZNAME:CEST
END:DAYLIGHT
END:VTIMEZONE
END:VCALENDAR