BEGIN:VCALENDAR
VERSION:2.0
PRODID:-//wp-events-plugin.com//7.2.3.1//EN
TZID:Europe/Warsaw
X-WR-TIMEZONE:Europe/Warsaw
BEGIN:VEVENT
UID:32045@night4u.pl
DTSTART;TZID=Europe/Warsaw:20191019T210000
DTEND;TZID=Europe/Warsaw:20191020T050000
DTSTAMP:20191014T030245Z
URL:https://night4u.pl/wydarzenia/dj-matys-w-klubie-studio-gorzow-wlkp-19-
 10-2019-sobota/
SUMMARY:DJ MATYS w Klubie Studio Gorzów Wlkp! 19.10.2019 Sobota
DESCRIPTION:19.10. 2019 (Sobota) - kolejna gorąca noc w naszym klubie!\nŻ
 ywa legenda Polskiej sceny klubowej → Dj Matys!\n\n19.10. 2019. Sobota\n
 start 21:00\n+19\nPanie do 22:00 Wstęp Wolny!\n\nKlub STUDIO Gorzów Wlkp
 .\nul.Chrobrego 2\nInfo & Rezerwacje 782 388 584
ATTACH;FMTTYPE=image/jpeg:https://night4u.pl/wp-content/uploads/2019/10/75
 744_image_72737543_2710323495665415_6509527552795607040_o.jpg
CATEGORIES:lubuskie
LOCATION:Klub Studio Gorzów Wlkp\, ul.Chrobrego 2\, Gorzów Wielkopolski\,
  66-400\, Poland
GEO:52.733034;15.23686
X-APPLE-STRUCTURED-LOCATION;VALUE=URI;X-ADDRESS=ul.Chrobrego 2\, Gorzów Wi
 elkopolski\, 66-400\, Poland;X-APPLE-RADIUS=100;X-TITLE=Klub Studio Gorzó
 w Wlkp:geo:52.733034,15.23686
END:VEVENT
BEGIN:VTIMEZONE
TZID:Europe/Warsaw
X-LIC-LOCATION:Europe/Warsaw
BEGIN:DAYLIGHT
DTSTART:20190331T030000
TZOFFSETFROM:+0100
TZOFFSETTO:+0200
TZNAME:CEST
END:DAYLIGHT
END:VTIMEZONE
END:VCALENDAR