BEGIN:VCALENDAR
VERSION:2.0
PRODID:-//wp-events-plugin.com//7.2.3.1//EN
TZID:Europe/Warsaw
X-WR-TIMEZONE:Europe/Warsaw
BEGIN:VEVENT
UID:50704@night4u.pl
DTSTART;TZID=Europe/Warsaw:20200822T160000
DTEND;TZID=Europe/Warsaw:20200822T220000
DTSTAMP:20200816T115740Z
URL:https://night4u.pl/wydarzenia/dj-michal-olewicz-x-stara-odra-x-carlsbe
 rg/
SUMMARY:DJ Michał Olewicz X Stara Odra X Carlsberg
DESCRIPTION:Wpadnijcie na koncert na  naszą plaże i skorzystajcie z piw o
 d Carlsberg'a\, których za naszym barem nie brakuje!\n\nBędziemy gości
 ć DJ Michała Olewicza\, który pozwoli Wam się w pełni odprężyć po 
 trudach całego tygodnia i spokojnie delektować  piwkiem! \n\nDJ Michał 
 to wszechstronny gatunkowo muzyk! \nA tak sam siebie opisuje: \n\n"Gatunku
 \, który gram nie da się tak łatwo opisać. Staram się łączyć klasy
 ki z lat disco lat 80' i 90' z najlepszym brzmieniem współczesnej muzyki
  House\, R&B i dobrego Techno. Gwarantuje\, że wyjdzie z tego coś dobreg
 o!" \n\n \nNie może Was zabraknąć!
ATTACH;FMTTYPE=image/jpeg:https://night4u.pl/wp-content/uploads/2020/08/18
 4702_image_116908848_2627288440844324_9014082295008429842_o.jpg
CATEGORIES:dolnośląskie
LOCATION:Stara Odra Beach Bar\, Zawalna\, Wroclaw\, 51-118\, Poland
GEO:51.134179;17.039449
X-APPLE-STRUCTURED-LOCATION;VALUE=URI;X-ADDRESS=Zawalna\, Wroclaw\, 51-118\
 , Poland;X-APPLE-RADIUS=100;X-TITLE=Stara Odra Beach Bar:geo:51.134179,17.
 039449
END:VEVENT
BEGIN:VTIMEZONE
TZID:Europe/Warsaw
X-LIC-LOCATION:Europe/Warsaw
BEGIN:DAYLIGHT
DTSTART:20200329T030000
TZOFFSETFROM:+0100
TZOFFSETTO:+0200
TZNAME:CEST
END:DAYLIGHT
END:VTIMEZONE
END:VCALENDAR