BEGIN:VCALENDAR
VERSION:2.0
PRODID:-//wp-events-plugin.com//7.2.3.1//EN
TZID:Europe/Warsaw
X-WR-TIMEZONE:Europe/Warsaw
BEGIN:VEVENT
UID:50687@night4u.pl
DTSTART;TZID=Europe/Warsaw:20200821T220000
DTEND;TZID=Europe/Warsaw:20200822T050000
DTSTAMP:20200816T115547Z
URL:https://night4u.pl/wydarzenia/dj-mingis-all-night-long/
SUMMARY:DJ Mingis ALL NIGHT LONG
DESCRIPTION:👯 DJ Mingis is in da house 👯\n\nDecki Surowiec tym razem 
 przejmuje wrocławski DJ z wieloletnim doświadczeniem\, którego możecie
  kojarzyć między innymi z audycji RAMbeat - Around the House w Radio RAM
 \, \n\ndisco l house l funk l pop l hity 90' / 00'\n____________________\n
 \n📍 RUSKA 46A\n⏰ START 22:00\n💸 TAX FREE
ATTACH;FMTTYPE=image/jpeg:https://night4u.pl/wp-content/uploads/2020/08/18
 4663_image_117589881_3355532091175384_2214908426899592137_o.jpg
CATEGORIES:dolnośląskie
LOCATION:Surowiec\, Ruska 46A\, Wroclaw\, 50-079\, Poland
GEO:51.11037;17.02447
X-APPLE-STRUCTURED-LOCATION;VALUE=URI;X-ADDRESS=Ruska 46A\, Wroclaw\, 50-07
 9\, Poland;X-APPLE-RADIUS=100;X-TITLE=Surowiec:geo:51.11037,17.02447
END:VEVENT
BEGIN:VTIMEZONE
TZID:Europe/Warsaw
X-LIC-LOCATION:Europe/Warsaw
BEGIN:DAYLIGHT
DTSTART:20200329T030000
TZOFFSETFROM:+0100
TZOFFSETTO:+0200
TZNAME:CEST
END:DAYLIGHT
END:VTIMEZONE
END:VCALENDAR