BEGIN:VCALENDAR
VERSION:2.0
PRODID:-//wp-events-plugin.com//7.2.3.1//EN
TZID:Europe/Warsaw
X-WR-TIMEZONE:Europe/Warsaw
BEGIN:VEVENT
UID:42390@night4u.pl
DTSTART;TZID=Europe/Warsaw:20200118T210000
DTEND;TZID=Europe/Warsaw:20200119T050000
DTSTAMP:20200331T192217Z
URL:https://night4u.pl/wydarzenia/dj-mnow-nudisco-indie-rock-7/
SUMMARY:DJ MNOW (Nudisco/ Indie-Rock)
DESCRIPTION:MNOW klasycznie - czyli zestaw muzycznych perełek zaserwowanyc
 h w pysznym secie. Od nowości nu-disco przez silną reprezentację indie-
 rock po disco-klasyki z przed kilku dekad. Aktualnie najczęściej gra w: 
 Café Absinthe (Gdańsk)\, Wtedy (Sopot)\, Klub Atelier (Sopot)\, 3 Siostr
 y (Sopot) oraz paru innych miejscach… ♪ ♪
ATTACH;FMTTYPE=image/jpeg:https://night4u.pl/wp-content/uploads/2020/01/13
 3421_image_81849313_2748126268581529_5096441204552237056_o.jpg
CATEGORIES:pomorskie
LOCATION:Klub Atelier\, Al. Mamuszki 2\, Sopot\, 81-729\, Poland
GEO:54.4485;18.568453
X-APPLE-STRUCTURED-LOCATION;VALUE=URI;X-ADDRESS=Al. Mamuszki 2\, Sopot\, 81
 -729\, Poland;X-APPLE-RADIUS=100;X-TITLE=Klub Atelier:geo:54.4485,18.56845
 3
END:VEVENT
BEGIN:VTIMEZONE
TZID:Europe/Warsaw
X-LIC-LOCATION:Europe/Warsaw
BEGIN:STANDARD
DTSTART:20191027T020000
TZOFFSETFROM:+0200
TZOFFSETTO:+0100
TZNAME:CET
END:STANDARD
END:VTIMEZONE
END:VCALENDAR