BEGIN:VCALENDAR
VERSION:2.0
PRODID:-//wp-events-plugin.com//7.2.3.1//EN
TZID:Europe/Warsaw
X-WR-TIMEZONE:Europe/Warsaw
BEGIN:VEVENT
UID:5475@night4u.pl
DTSTART;TZID=Europe/Warsaw:20190202T200000
DTEND;TZID=Europe/Warsaw:20190203T030000
DTSTAMP:20190130T185841Z
URL:https://night4u.pl/wydarzenia/dj-paulo-%e2%98%85-podsumowanie-weekendu
 -%e2%98%85-2-luty/
SUMMARY:DJ Paulo ★ Podsumowanie weekendu ★ 2 luty
DESCRIPTION:2 luty ❌ sobota ❌ DJ Paulo\nSobotnie podsumowanie weekendu 
 ?\nPrzygotuj się na mocne i energiczne uderzenie!\n\nNajlepsze dźwięki 
 będzie słychać w Broadway Club.\nPotężna dawka hitów\, remixów\, mu
 zyki klubowaj\, polskich brzmień!\n\n?️ Mocno i energicznie zamiesza DJ
  Paulo\n\n_________\nStart\n20.00\n_________\nKontakt\n★ 84 639 26 26 - 
 info i rezerwacje\n★ Instagram\, Facebook: @BroadwayZamosc\n★ Broadway
  Club Zamość | Peowiaków 94
ATTACH;FMTTYPE=image/jpeg:https://night4u.pl/wp-content/uploads/2019/01/16
 866_image_50846387_2923575987668036_1260047360587726848_o.jpg
CATEGORIES:lubelskie
LOCATION:Broadway Club & Restaurant\, ul. Peowiaków 94\, Zamosc\, 22-400\,
  Poland
GEO:50.715726;23.261037
X-APPLE-STRUCTURED-LOCATION;VALUE=URI;X-ADDRESS=ul. Peowiaków 94\, Zamosc\
 , 22-400\, Poland;X-APPLE-RADIUS=100;X-TITLE=Broadway Club & Restaurant:ge
 o:50.715726,23.261037
END:VEVENT
BEGIN:VTIMEZONE
TZID:Europe/Warsaw
X-LIC-LOCATION:Europe/Warsaw
BEGIN:STANDARD
DTSTART:20181028T020000
TZOFFSETFROM:+0200
TZOFFSETTO:+0100
TZNAME:CET
END:STANDARD
END:VTIMEZONE
END:VCALENDAR