BEGIN:VCALENDAR
VERSION:2.0
PRODID:-//wp-events-plugin.com//7.2.3.1//EN
TZID:Europe/Warsaw
X-WR-TIMEZONE:Europe/Warsaw
BEGIN:VEVENT
UID:2895@night4u.pl
DTSTART;TZID=Europe/Warsaw:20190124T220000
DTEND;TZID=Europe/Warsaw:20190125T040000
DTSTAMP:20190108T151740Z
URL:https://night4u.pl/wydarzenia/dj-selebrium-%d0%b2-%d0%be%d0%bf%d0%be%d
 0%bb%d0%b5/
SUMMARY:Dj Selebrium в Ополе!
DESCRIPTION:? Ополе\, пришло время встретиться 
 и дать огня. Мы пригласили специального 
 гостя из Минска\, диджея Макса Коржа\, род
 оначальника больших флэтов  - Dj Selebrium.\n\nЕ
 го сеты прокачивали стадионы и дворцы сп
 орта. Selebrium не ставит себя в рамки музыка
 льных стилей. Тусовки с его участием при
 обретают неповторимый формат\, который н
 икого не оставит равнодушным. \n\nЭто буде
 т эпичная туса ? #вместе и #доконца\n\n⌚️Н
 ачало 22:00 \n? Вход 10zł.
ATTACH;FMTTYPE=image/jpeg:https://night4u.pl/wp-content/uploads/2019/01/99
 29_image_49796405_1866141120174891_1292305786206158848_o.jpg
CATEGORIES:opolskie
LOCATION:Sofa Music Club\, Oleska 102\, Opole\, 45-231\, Poland
GEO:50.681382;17.941253
X-APPLE-STRUCTURED-LOCATION;VALUE=URI;X-ADDRESS=Oleska 102\, Opole\, 45-231
 \, Poland;X-APPLE-RADIUS=100;X-TITLE=Sofa Music Club:geo:50.681382,17.9412
 53
END:VEVENT
BEGIN:VTIMEZONE
TZID:Europe/Warsaw
X-LIC-LOCATION:Europe/Warsaw
BEGIN:STANDARD
DTSTART:20181028T020000
TZOFFSETFROM:+0200
TZOFFSETTO:+0100
TZNAME:CET
END:STANDARD
END:VTIMEZONE
END:VCALENDAR