BEGIN:VCALENDAR
VERSION:2.0
PRODID:-//wp-events-plugin.com//7.2.3.1//EN
TZID:Europe/Warsaw
X-WR-TIMEZONE:Europe/Warsaw
BEGIN:VEVENT
UID:2926@night4u.pl
DTSTART;TZID=Europe/Warsaw:20190126T210000
DTEND;TZID=Europe/Warsaw:20190127T050000
DTSTAMP:20190108T162512Z
URL:https://night4u.pl/wydarzenia/dj-sympatique-alternative-dance/
SUMMARY:Dj Sympatique (Alternative Dance)
DESCRIPTION:4 sierpnia  2018\, 22.00 sobota\n                   \nZagra dla
  Was dj SYMPATIQUE - dj i promotor\, od połowy lat '90 aktywnie udzielaj
 ący się na trójmiejskiej scenie muzycznej. W przeszłości mocno związ
 any ze środowiskiem rockowym\, wraz z początkiem XXI wieku porzucił ins
 trument\, by własne pomysły i fascynacje muzyczne wyrazić innymi sposob
 ami. Swoje pierwsze imprezy zagrał w kultowej sopockiej Siouxii 9\, by w 
 stosunkowo krótkim czasie stać się częstym gościem również takich m
 iejsc jak: Atelier\, Soho\, Mandarynka\, Sfinks\, Mandragora\, Klubowa\, M
 echanik\, czy Cobe\, jak również wielu klubów w innych częściach kraj
 u.\n\nOd lat aktywnie działa również jako promotor muzyczny i animator 
 wydarzeń kulturalnych.\n\nEklektyczny charakter granej przez niego muzyki
  kształtowany jest przez bardzo szerokie spektrum zainteresowań\, od org
 anicznych brzmień headz/groove\, minimal\, po klimaty electroclash\, punk
  funk i indie. Doskonale odnajduje się w różnych stylach\, czerpiąc i 
 mieszając wszystko to\, co najlepsze w każdym z nich. Stale współpracu
 je z wieloma trójmiejskimi klubami.
ATTACH;FMTTYPE=image/jpeg:https://night4u.pl/wp-content/uploads/2019/01/99
 90_image_49503126_2096824760378353_7699798973476765696_o.jpg
CATEGORIES:pomorskie
LOCATION:Klub Atelier\, Al. Mamuszki 2\, Sopot\, 81-729\, Poland
GEO:54.4485;18.568453
X-APPLE-STRUCTURED-LOCATION;VALUE=URI;X-ADDRESS=Al. Mamuszki 2\, Sopot\, 81
 -729\, Poland;X-APPLE-RADIUS=100;X-TITLE=Klub Atelier:geo:54.4485,18.56845
 3
END:VEVENT
BEGIN:VTIMEZONE
TZID:Europe/Warsaw
X-LIC-LOCATION:Europe/Warsaw
BEGIN:STANDARD
DTSTART:20181028T020000
TZOFFSETFROM:+0200
TZOFFSETTO:+0100
TZNAME:CET
END:STANDARD
END:VTIMEZONE
END:VCALENDAR